BEGIN:VCALENDAR
VERSION:2.0
PRODID:-//An-Nur Islamic Center - ECPv6.15.16//NONSGML v1.0//EN
CALSCALE:GREGORIAN
METHOD:PUBLISH
X-ORIGINAL-URL:https://www.annurislamiccenterpa.org
X-WR-CALDESC:Events for An-Nur Islamic Center
REFRESH-INTERVAL;VALUE=DURATION:PT1H
X-Robots-Tag:noindex
X-PUBLISHED-TTL:PT1H
BEGIN:VTIMEZONE
TZID:America/New_York
BEGIN:DAYLIGHT
TZOFFSETFROM:-0500
TZOFFSETTO:-0400
TZNAME:EDT
DTSTART:20260308T070000
END:DAYLIGHT
BEGIN:STANDARD
TZOFFSETFROM:-0400
TZOFFSETTO:-0500
TZNAME:EST
DTSTART:20261101T060000
END:STANDARD
BEGIN:DAYLIGHT
TZOFFSETFROM:-0500
TZOFFSETTO:-0400
TZNAME:EDT
DTSTART:20270314T070000
END:DAYLIGHT
BEGIN:STANDARD
TZOFFSETFROM:-0400
TZOFFSETTO:-0500
TZNAME:EST
DTSTART:20271107T060000
END:STANDARD
BEGIN:DAYLIGHT
TZOFFSETFROM:-0500
TZOFFSETTO:-0400
TZNAME:EDT
DTSTART:20280312T070000
END:DAYLIGHT
BEGIN:STANDARD
TZOFFSETFROM:-0400
TZOFFSETTO:-0500
TZNAME:EST
DTSTART:20281105T060000
END:STANDARD
END:VTIMEZONE
BEGIN:VEVENT
DTSTART;TZID=America/New_York:20270801T063000
DTEND;TZID=America/New_York:20270801T083000
DTSTAMP:20260421T083542
CREATED:20231007T141233Z
LAST-MODIFIED:20231007T141233Z
UID:13339-1817101800-1817109000@www.annurislamiccenterpa.org
SUMMARY:M.A.L.I Arabic Class with Imam Hammad Mahdi
DESCRIPTION:
URL:https://www.annurislamiccenterpa.org/event/m-a-l-i-arabic-class-with-imam-hammad-mahdi-2027-08-01/
LOCATION:An Nur Islamic Center\, 1017 Center Street\, Pittsburgh\, PA\, 15221\, United States
END:VEVENT
BEGIN:VEVENT
DTSTART;TZID=America/New_York:20270804T163000
DTEND;TZID=America/New_York:20270804T180000
DTSTAMP:20260421T083542
CREATED:20240807T155347Z
LAST-MODIFIED:20240807T155347Z
UID:13434-1817397000-1817402400@www.annurislamiccenterpa.org
SUMMARY:M.A.L.I Arabic Class - Imam Walter Shaahid - Free
DESCRIPTION:M.A.L.I – Muslim American Logic Institute\nmuslimamericanlogic.ning.com\nInstructor: Imam Walter Shaahid\nLearn M.A.L.I system of teaching Arabic. Every Wednesday 4:30pm – 6pm.\nAddress: 1017 Center Street\, Pittsburgh\, PA\, 15221
URL:https://www.annurislamiccenterpa.org/event/m-a-l-i-arabic-class-2027-08-04/
LOCATION:An Nur Islamic Center\, 1017 Center Street\, Pittsburgh\, PA\, 15221\, United States
END:VEVENT
BEGIN:VEVENT
DTSTART;TZID=America/New_York:20270807T063000
DTEND;TZID=America/New_York:20270807T083000
DTSTAMP:20260421T083542
CREATED:20231007T141233Z
LAST-MODIFIED:20231007T141233Z
UID:13482-1817620200-1817627400@www.annurislamiccenterpa.org
SUMMARY:M.A.L.I Arabic Class with Imam Hammad Mahdi
DESCRIPTION:
URL:https://www.annurislamiccenterpa.org/event/m-a-l-i-arabic-class-with-imam-hammad-mahdi-2027-08-07/
LOCATION:An Nur Islamic Center\, 1017 Center Street\, Pittsburgh\, PA\, 15221\, United States
END:VEVENT
BEGIN:VEVENT
DTSTART;TZID=America/New_York:20270808T063000
DTEND;TZID=America/New_York:20270808T083000
DTSTAMP:20260421T083542
CREATED:20231007T141233Z
LAST-MODIFIED:20231007T141233Z
UID:13484-1817706600-1817713800@www.annurislamiccenterpa.org
SUMMARY:M.A.L.I Arabic Class with Imam Hammad Mahdi
DESCRIPTION:
URL:https://www.annurislamiccenterpa.org/event/m-a-l-i-arabic-class-with-imam-hammad-mahdi-2027-08-08/
LOCATION:An Nur Islamic Center\, 1017 Center Street\, Pittsburgh\, PA\, 15221\, United States
END:VEVENT
BEGIN:VEVENT
DTSTART;TZID=America/New_York:20270808T120000
DTEND;TZID=America/New_York:20270808T130000
DTSTAMP:20260421T083542
CREATED:20240903T182553Z
LAST-MODIFIED:20240903T182553Z
UID:13485-1817726400-1817730000@www.annurislamiccenterpa.org
SUMMARY:Majlis Board Meeting
DESCRIPTION:Monthly majlis board member meeting.  Virtual meeting every 2nd Sunday of the month.
URL:https://www.annurislamiccenterpa.org/event/majlis-board-meeting-2027-08-08/
LOCATION:PA
END:VEVENT
BEGIN:VEVENT
DTSTART;TZID=America/New_York:20270811T163000
DTEND;TZID=America/New_York:20270811T180000
DTSTAMP:20260421T083542
CREATED:20240807T155347Z
LAST-MODIFIED:20240807T155347Z
UID:13938-1818001800-1818007200@www.annurislamiccenterpa.org
SUMMARY:M.A.L.I Arabic Class - Imam Walter Shaahid - Free
DESCRIPTION:M.A.L.I – Muslim American Logic Institute\nmuslimamericanlogic.ning.com\nInstructor: Imam Walter Shaahid\nLearn M.A.L.I system of teaching Arabic. Every Wednesday 4:30pm – 6pm.\nAddress: 1017 Center Street\, Pittsburgh\, PA\, 15221
URL:https://www.annurislamiccenterpa.org/event/m-a-l-i-arabic-class-2027-08-11/
LOCATION:An Nur Islamic Center\, 1017 Center Street\, Pittsburgh\, PA\, 15221\, United States
END:VEVENT
BEGIN:VEVENT
DTSTART;TZID=America/New_York:20270814T063000
DTEND;TZID=America/New_York:20270814T083000
DTSTAMP:20260421T083542
CREATED:20231007T141233Z
LAST-MODIFIED:20231007T141233Z
UID:14104-1818225000-1818232200@www.annurislamiccenterpa.org
SUMMARY:M.A.L.I Arabic Class with Imam Hammad Mahdi
DESCRIPTION:
URL:https://www.annurislamiccenterpa.org/event/m-a-l-i-arabic-class-with-imam-hammad-mahdi-2027-08-14/
LOCATION:An Nur Islamic Center\, 1017 Center Street\, Pittsburgh\, PA\, 15221\, United States
END:VEVENT
BEGIN:VEVENT
DTSTART;TZID=America/New_York:20270815T013000
DTEND;TZID=America/New_York:20270815T150000
DTSTAMP:20260421T083542
CREATED:20240807T162049Z
LAST-MODIFIED:20240807T162049Z
UID:14106-1818293400-1818342000@www.annurislamiccenterpa.org
SUMMARY:Qur'anic Studies Class
DESCRIPTION:Qur’anic Studies Class – Every 3rd Sunday\nTime: After Dhuhr Prayer\nInstructor: Imam Hammad Mahdi\nAddress: 1027 Center Street\, Pittsburgh\, PA 15221
URL:https://www.annurislamiccenterpa.org/event/quranic-studies-class-2027-08-15/
LOCATION:An Nur Islamic Center\, 1017 Center Street\, Pittsburgh\, PA\, 15221\, United States
END:VEVENT
BEGIN:VEVENT
DTSTART;TZID=America/New_York:20270815T063000
DTEND;TZID=America/New_York:20270815T083000
DTSTAMP:20260421T083542
CREATED:20231007T141233Z
LAST-MODIFIED:20231007T141233Z
UID:14105-1818311400-1818318600@www.annurislamiccenterpa.org
SUMMARY:M.A.L.I Arabic Class with Imam Hammad Mahdi
DESCRIPTION:
URL:https://www.annurislamiccenterpa.org/event/m-a-l-i-arabic-class-with-imam-hammad-mahdi-2027-08-15/
LOCATION:An Nur Islamic Center\, 1017 Center Street\, Pittsburgh\, PA\, 15221\, United States
END:VEVENT
BEGIN:VEVENT
DTSTART;TZID=America/New_York:20270818T163000
DTEND;TZID=America/New_York:20270818T180000
DTSTAMP:20260421T083542
CREATED:20240807T155347Z
LAST-MODIFIED:20240807T155347Z
UID:14115-1818606600-1818612000@www.annurislamiccenterpa.org
SUMMARY:M.A.L.I Arabic Class - Imam Walter Shaahid - Free
DESCRIPTION:M.A.L.I – Muslim American Logic Institute\nmuslimamericanlogic.ning.com\nInstructor: Imam Walter Shaahid\nLearn M.A.L.I system of teaching Arabic. Every Wednesday 4:30pm – 6pm.\nAddress: 1017 Center Street\, Pittsburgh\, PA\, 15221
URL:https://www.annurislamiccenterpa.org/event/m-a-l-i-arabic-class-2027-08-18/
LOCATION:An Nur Islamic Center\, 1017 Center Street\, Pittsburgh\, PA\, 15221\, United States
END:VEVENT
BEGIN:VEVENT
DTSTART;TZID=America/New_York:20270821T063000
DTEND;TZID=America/New_York:20270821T083000
DTSTAMP:20260421T083542
CREATED:20231007T141233Z
LAST-MODIFIED:20231007T141233Z
UID:14132-1818829800-1818837000@www.annurislamiccenterpa.org
SUMMARY:M.A.L.I Arabic Class with Imam Hammad Mahdi
DESCRIPTION:
URL:https://www.annurislamiccenterpa.org/event/m-a-l-i-arabic-class-with-imam-hammad-mahdi-2027-08-21/
LOCATION:An Nur Islamic Center\, 1017 Center Street\, Pittsburgh\, PA\, 15221\, United States
END:VEVENT
BEGIN:VEVENT
DTSTART;TZID=America/New_York:20270822T063000
DTEND;TZID=America/New_York:20270822T083000
DTSTAMP:20260421T083542
CREATED:20231007T141233Z
LAST-MODIFIED:20231007T141233Z
UID:14133-1818916200-1818923400@www.annurislamiccenterpa.org
SUMMARY:M.A.L.I Arabic Class with Imam Hammad Mahdi
DESCRIPTION:
URL:https://www.annurislamiccenterpa.org/event/m-a-l-i-arabic-class-with-imam-hammad-mahdi-2027-08-22/
LOCATION:An Nur Islamic Center\, 1017 Center Street\, Pittsburgh\, PA\, 15221\, United States
END:VEVENT
BEGIN:VEVENT
DTSTART;TZID=America/New_York:20270822T130000
DTEND;TZID=America/New_York:20270822T140000
DTSTAMP:20260421T083542
CREATED:20240903T183430Z
LAST-MODIFIED:20240903T183430Z
UID:14134-1818939600-1818943200@www.annurislamiccenterpa.org
SUMMARY:Monthly Community Meeting
DESCRIPTION:Monthly Community Meeting\nLocation: An-Nur Islamic Center (1017 Center St.)\nTime: After dhuhr prayer
URL:https://www.annurislamiccenterpa.org/event/monthly-community-meeting-2027-08-22/
LOCATION:An Nur Islamic Center\, 1017 Center Street\, Pittsburgh\, PA\, 15221\, United States
END:VEVENT
BEGIN:VEVENT
DTSTART;TZID=America/New_York:20270825T163000
DTEND;TZID=America/New_York:20270825T180000
DTSTAMP:20260421T083542
CREATED:20240807T155347Z
LAST-MODIFIED:20240807T155347Z
UID:14135-1819211400-1819216800@www.annurislamiccenterpa.org
SUMMARY:M.A.L.I Arabic Class - Imam Walter Shaahid - Free
DESCRIPTION:M.A.L.I – Muslim American Logic Institute\nmuslimamericanlogic.ning.com\nInstructor: Imam Walter Shaahid\nLearn M.A.L.I system of teaching Arabic. Every Wednesday 4:30pm – 6pm.\nAddress: 1017 Center Street\, Pittsburgh\, PA\, 15221
URL:https://www.annurislamiccenterpa.org/event/m-a-l-i-arabic-class-2027-08-25/
LOCATION:An Nur Islamic Center\, 1017 Center Street\, Pittsburgh\, PA\, 15221\, United States
END:VEVENT
BEGIN:VEVENT
DTSTART;TZID=America/New_York:20270828T063000
DTEND;TZID=America/New_York:20270828T083000
DTSTAMP:20260421T083542
CREATED:20231007T141233Z
LAST-MODIFIED:20231007T141233Z
UID:14158-1819434600-1819441800@www.annurislamiccenterpa.org
SUMMARY:M.A.L.I Arabic Class with Imam Hammad Mahdi
DESCRIPTION:
URL:https://www.annurislamiccenterpa.org/event/m-a-l-i-arabic-class-with-imam-hammad-mahdi-2027-08-28/
LOCATION:An Nur Islamic Center\, 1017 Center Street\, Pittsburgh\, PA\, 15221\, United States
END:VEVENT
BEGIN:VEVENT
DTSTART;TZID=America/New_York:20270829T063000
DTEND;TZID=America/New_York:20270829T083000
DTSTAMP:20260421T083542
CREATED:20231007T141233Z
LAST-MODIFIED:20231007T141233Z
UID:14160-1819521000-1819528200@www.annurislamiccenterpa.org
SUMMARY:M.A.L.I Arabic Class with Imam Hammad Mahdi
DESCRIPTION:
URL:https://www.annurislamiccenterpa.org/event/m-a-l-i-arabic-class-with-imam-hammad-mahdi-2027-08-29/
LOCATION:An Nur Islamic Center\, 1017 Center Street\, Pittsburgh\, PA\, 15221\, United States
END:VEVENT
BEGIN:VEVENT
DTSTART;TZID=America/New_York:20270901T163000
DTEND;TZID=America/New_York:20270901T180000
DTSTAMP:20260421T083542
CREATED:20240807T155347Z
LAST-MODIFIED:20240807T155347Z
UID:14163-1819816200-1819821600@www.annurislamiccenterpa.org
SUMMARY:M.A.L.I Arabic Class - Imam Walter Shaahid - Free
DESCRIPTION:M.A.L.I – Muslim American Logic Institute\nmuslimamericanlogic.ning.com\nInstructor: Imam Walter Shaahid\nLearn M.A.L.I system of teaching Arabic. Every Wednesday 4:30pm – 6pm.\nAddress: 1017 Center Street\, Pittsburgh\, PA\, 15221
URL:https://www.annurislamiccenterpa.org/event/m-a-l-i-arabic-class-2027-09-01/
LOCATION:An Nur Islamic Center\, 1017 Center Street\, Pittsburgh\, PA\, 15221\, United States
END:VEVENT
BEGIN:VEVENT
DTSTART;TZID=America/New_York:20270904T063000
DTEND;TZID=America/New_York:20270904T083000
DTSTAMP:20260421T083542
CREATED:20231007T141233Z
LAST-MODIFIED:20231007T141233Z
UID:14371-1820039400-1820046600@www.annurislamiccenterpa.org
SUMMARY:M.A.L.I Arabic Class with Imam Hammad Mahdi
DESCRIPTION:
URL:https://www.annurislamiccenterpa.org/event/m-a-l-i-arabic-class-with-imam-hammad-mahdi-2027-09-04/
LOCATION:An Nur Islamic Center\, 1017 Center Street\, Pittsburgh\, PA\, 15221\, United States
END:VEVENT
BEGIN:VEVENT
DTSTART;TZID=America/New_York:20270905T063000
DTEND;TZID=America/New_York:20270905T083000
DTSTAMP:20260421T083542
CREATED:20231007T141233Z
LAST-MODIFIED:20231007T141233Z
UID:14372-1820125800-1820133000@www.annurislamiccenterpa.org
SUMMARY:M.A.L.I Arabic Class with Imam Hammad Mahdi
DESCRIPTION:
URL:https://www.annurislamiccenterpa.org/event/m-a-l-i-arabic-class-with-imam-hammad-mahdi-2027-09-05/
LOCATION:An Nur Islamic Center\, 1017 Center Street\, Pittsburgh\, PA\, 15221\, United States
END:VEVENT
BEGIN:VEVENT
DTSTART;TZID=America/New_York:20270908T163000
DTEND;TZID=America/New_York:20270908T180000
DTSTAMP:20260421T083542
CREATED:20240807T155347Z
LAST-MODIFIED:20240807T155347Z
UID:14373-1820421000-1820426400@www.annurislamiccenterpa.org
SUMMARY:M.A.L.I Arabic Class - Imam Walter Shaahid - Free
DESCRIPTION:M.A.L.I – Muslim American Logic Institute\nmuslimamericanlogic.ning.com\nInstructor: Imam Walter Shaahid\nLearn M.A.L.I system of teaching Arabic. Every Wednesday 4:30pm – 6pm.\nAddress: 1017 Center Street\, Pittsburgh\, PA\, 15221
URL:https://www.annurislamiccenterpa.org/event/m-a-l-i-arabic-class-2027-09-08/
LOCATION:An Nur Islamic Center\, 1017 Center Street\, Pittsburgh\, PA\, 15221\, United States
END:VEVENT
BEGIN:VEVENT
DTSTART;TZID=America/New_York:20270911T063000
DTEND;TZID=America/New_York:20270911T083000
DTSTAMP:20260421T083542
CREATED:20231007T141233Z
LAST-MODIFIED:20231007T141233Z
UID:14374-1820644200-1820651400@www.annurislamiccenterpa.org
SUMMARY:M.A.L.I Arabic Class with Imam Hammad Mahdi
DESCRIPTION:
URL:https://www.annurislamiccenterpa.org/event/m-a-l-i-arabic-class-with-imam-hammad-mahdi-2027-09-11/
LOCATION:An Nur Islamic Center\, 1017 Center Street\, Pittsburgh\, PA\, 15221\, United States
END:VEVENT
BEGIN:VEVENT
DTSTART;TZID=America/New_York:20270912T063000
DTEND;TZID=America/New_York:20270912T083000
DTSTAMP:20260421T083542
CREATED:20231007T141233Z
LAST-MODIFIED:20231007T141233Z
UID:14375-1820730600-1820737800@www.annurislamiccenterpa.org
SUMMARY:M.A.L.I Arabic Class with Imam Hammad Mahdi
DESCRIPTION:
URL:https://www.annurislamiccenterpa.org/event/m-a-l-i-arabic-class-with-imam-hammad-mahdi-2027-09-12/
LOCATION:An Nur Islamic Center\, 1017 Center Street\, Pittsburgh\, PA\, 15221\, United States
END:VEVENT
BEGIN:VEVENT
DTSTART;TZID=America/New_York:20270912T120000
DTEND;TZID=America/New_York:20270912T130000
DTSTAMP:20260421T083542
CREATED:20240903T182553Z
LAST-MODIFIED:20240903T182553Z
UID:14376-1820750400-1820754000@www.annurislamiccenterpa.org
SUMMARY:Majlis Board Meeting
DESCRIPTION:Monthly majlis board member meeting.  Virtual meeting every 2nd Sunday of the month.
URL:https://www.annurislamiccenterpa.org/event/majlis-board-meeting-2027-09-12/
LOCATION:PA
END:VEVENT
BEGIN:VEVENT
DTSTART;TZID=America/New_York:20270915T163000
DTEND;TZID=America/New_York:20270915T180000
DTSTAMP:20260421T083542
CREATED:20240807T155347Z
LAST-MODIFIED:20240807T155347Z
UID:14377-1821025800-1821031200@www.annurislamiccenterpa.org
SUMMARY:M.A.L.I Arabic Class - Imam Walter Shaahid - Free
DESCRIPTION:M.A.L.I – Muslim American Logic Institute\nmuslimamericanlogic.ning.com\nInstructor: Imam Walter Shaahid\nLearn M.A.L.I system of teaching Arabic. Every Wednesday 4:30pm – 6pm.\nAddress: 1017 Center Street\, Pittsburgh\, PA\, 15221
URL:https://www.annurislamiccenterpa.org/event/m-a-l-i-arabic-class-2027-09-15/
LOCATION:An Nur Islamic Center\, 1017 Center Street\, Pittsburgh\, PA\, 15221\, United States
END:VEVENT
BEGIN:VEVENT
DTSTART;TZID=America/New_York:20270918T063000
DTEND;TZID=America/New_York:20270918T083000
DTSTAMP:20260421T083542
CREATED:20231007T141233Z
LAST-MODIFIED:20231007T141233Z
UID:14378-1821249000-1821256200@www.annurislamiccenterpa.org
SUMMARY:M.A.L.I Arabic Class with Imam Hammad Mahdi
DESCRIPTION:
URL:https://www.annurislamiccenterpa.org/event/m-a-l-i-arabic-class-with-imam-hammad-mahdi-2027-09-18/
LOCATION:An Nur Islamic Center\, 1017 Center Street\, Pittsburgh\, PA\, 15221\, United States
END:VEVENT
BEGIN:VEVENT
DTSTART;TZID=America/New_York:20270919T013000
DTEND;TZID=America/New_York:20270919T150000
DTSTAMP:20260421T083542
CREATED:20240807T162049Z
LAST-MODIFIED:20240807T162049Z
UID:14380-1821317400-1821366000@www.annurislamiccenterpa.org
SUMMARY:Qur'anic Studies Class
DESCRIPTION:Qur’anic Studies Class – Every 3rd Sunday\nTime: After Dhuhr Prayer\nInstructor: Imam Hammad Mahdi\nAddress: 1027 Center Street\, Pittsburgh\, PA 15221
URL:https://www.annurislamiccenterpa.org/event/quranic-studies-class-2027-09-19/
LOCATION:An Nur Islamic Center\, 1017 Center Street\, Pittsburgh\, PA\, 15221\, United States
END:VEVENT
BEGIN:VEVENT
DTSTART;TZID=America/New_York:20270919T063000
DTEND;TZID=America/New_York:20270919T083000
DTSTAMP:20260421T083542
CREATED:20231007T141233Z
LAST-MODIFIED:20231007T141233Z
UID:14379-1821335400-1821342600@www.annurislamiccenterpa.org
SUMMARY:M.A.L.I Arabic Class with Imam Hammad Mahdi
DESCRIPTION:
URL:https://www.annurislamiccenterpa.org/event/m-a-l-i-arabic-class-with-imam-hammad-mahdi-2027-09-19/
LOCATION:An Nur Islamic Center\, 1017 Center Street\, Pittsburgh\, PA\, 15221\, United States
END:VEVENT
BEGIN:VEVENT
DTSTART;TZID=America/New_York:20270922T163000
DTEND;TZID=America/New_York:20270922T180000
DTSTAMP:20260421T083542
CREATED:20240807T155347Z
LAST-MODIFIED:20240807T155347Z
UID:14381-1821630600-1821636000@www.annurislamiccenterpa.org
SUMMARY:M.A.L.I Arabic Class - Imam Walter Shaahid - Free
DESCRIPTION:M.A.L.I – Muslim American Logic Institute\nmuslimamericanlogic.ning.com\nInstructor: Imam Walter Shaahid\nLearn M.A.L.I system of teaching Arabic. Every Wednesday 4:30pm – 6pm.\nAddress: 1017 Center Street\, Pittsburgh\, PA\, 15221
URL:https://www.annurislamiccenterpa.org/event/m-a-l-i-arabic-class-2027-09-22/
LOCATION:An Nur Islamic Center\, 1017 Center Street\, Pittsburgh\, PA\, 15221\, United States
END:VEVENT
BEGIN:VEVENT
DTSTART;TZID=America/New_York:20270925T063000
DTEND;TZID=America/New_York:20270925T083000
DTSTAMP:20260421T083542
CREATED:20231007T141233Z
LAST-MODIFIED:20231007T141233Z
UID:14382-1821853800-1821861000@www.annurislamiccenterpa.org
SUMMARY:M.A.L.I Arabic Class with Imam Hammad Mahdi
DESCRIPTION:
URL:https://www.annurislamiccenterpa.org/event/m-a-l-i-arabic-class-with-imam-hammad-mahdi-2027-09-25/
LOCATION:An Nur Islamic Center\, 1017 Center Street\, Pittsburgh\, PA\, 15221\, United States
END:VEVENT
BEGIN:VEVENT
DTSTART;TZID=America/New_York:20270926T063000
DTEND;TZID=America/New_York:20270926T083000
DTSTAMP:20260421T083542
CREATED:20231007T141233Z
LAST-MODIFIED:20231007T141233Z
UID:14383-1821940200-1821947400@www.annurislamiccenterpa.org
SUMMARY:M.A.L.I Arabic Class with Imam Hammad Mahdi
DESCRIPTION:
URL:https://www.annurislamiccenterpa.org/event/m-a-l-i-arabic-class-with-imam-hammad-mahdi-2027-09-26/
LOCATION:An Nur Islamic Center\, 1017 Center Street\, Pittsburgh\, PA\, 15221\, United States
END:VEVENT
END:VCALENDAR