BEGIN:VCALENDAR
VERSION:2.0
PRODID:-//An-Nur Islamic Center - ECPv6.15.16//NONSGML v1.0//EN
CALSCALE:GREGORIAN
METHOD:PUBLISH
X-ORIGINAL-URL:https://www.annurislamiccenterpa.org
X-WR-CALDESC:Events for An-Nur Islamic Center
REFRESH-INTERVAL;VALUE=DURATION:PT1H
X-Robots-Tag:noindex
X-PUBLISHED-TTL:PT1H
BEGIN:VTIMEZONE
TZID:America/New_York
BEGIN:DAYLIGHT
TZOFFSETFROM:-0500
TZOFFSETTO:-0400
TZNAME:EDT
DTSTART:20270314T070000
END:DAYLIGHT
BEGIN:STANDARD
TZOFFSETFROM:-0400
TZOFFSETTO:-0500
TZNAME:EST
DTSTART:20271107T060000
END:STANDARD
BEGIN:DAYLIGHT
TZOFFSETFROM:-0500
TZOFFSETTO:-0400
TZNAME:EDT
DTSTART:20280312T070000
END:DAYLIGHT
BEGIN:STANDARD
TZOFFSETFROM:-0400
TZOFFSETTO:-0500
TZNAME:EST
DTSTART:20281105T060000
END:STANDARD
BEGIN:DAYLIGHT
TZOFFSETFROM:-0500
TZOFFSETTO:-0400
TZNAME:EDT
DTSTART:20290311T070000
END:DAYLIGHT
BEGIN:STANDARD
TZOFFSETFROM:-0400
TZOFFSETTO:-0500
TZNAME:EST
DTSTART:20291104T060000
END:STANDARD
END:VTIMEZONE
BEGIN:VEVENT
DTSTART;TZID=America/New_York:20280108T063000
DTEND;TZID=America/New_York:20280108T083000
DTSTAMP:20260423T061755
CREATED:20231007T141233Z
LAST-MODIFIED:20231007T141233Z
UID:14437-1830925800-1830933000@www.annurislamiccenterpa.org
SUMMARY:M.A.L.I Arabic Class with Imam Hammad Mahdi
DESCRIPTION:
URL:https://www.annurislamiccenterpa.org/event/m-a-l-i-arabic-class-with-imam-hammad-mahdi-2028-01-08/
LOCATION:An Nur Islamic Center\, 1017 Center Street\, Pittsburgh\, PA\, 15221\, United States
END:VEVENT
BEGIN:VEVENT
DTSTART;TZID=America/New_York:20280109T063000
DTEND;TZID=America/New_York:20280109T083000
DTSTAMP:20260423T061755
CREATED:20231007T141233Z
LAST-MODIFIED:20231007T141233Z
UID:14438-1831012200-1831019400@www.annurislamiccenterpa.org
SUMMARY:M.A.L.I Arabic Class with Imam Hammad Mahdi
DESCRIPTION:
URL:https://www.annurislamiccenterpa.org/event/m-a-l-i-arabic-class-with-imam-hammad-mahdi-2028-01-09/
LOCATION:An Nur Islamic Center\, 1017 Center Street\, Pittsburgh\, PA\, 15221\, United States
END:VEVENT
BEGIN:VEVENT
DTSTART;TZID=America/New_York:20280109T120000
DTEND;TZID=America/New_York:20280109T130000
DTSTAMP:20260423T061755
CREATED:20240903T182553Z
LAST-MODIFIED:20240903T182553Z
UID:14439-1831032000-1831035600@www.annurislamiccenterpa.org
SUMMARY:Majlis Board Meeting
DESCRIPTION:Monthly majlis board member meeting.  Virtual meeting every 2nd Sunday of the month.
URL:https://www.annurislamiccenterpa.org/event/majlis-board-meeting-2028-01-09/
LOCATION:PA
END:VEVENT
BEGIN:VEVENT
DTSTART;TZID=America/New_York:20280112T163000
DTEND;TZID=America/New_York:20280112T180000
DTSTAMP:20260423T061755
CREATED:20240807T155347Z
LAST-MODIFIED:20240807T155347Z
UID:14440-1831307400-1831312800@www.annurislamiccenterpa.org
SUMMARY:M.A.L.I Arabic Class - Imam Walter Shaahid - Free
DESCRIPTION:M.A.L.I – Muslim American Logic Institute\nmuslimamericanlogic.ning.com\nInstructor: Imam Walter Shaahid\nLearn M.A.L.I system of teaching Arabic. Every Wednesday 4:30pm – 6pm.\nAddress: 1017 Center Street\, Pittsburgh\, PA\, 15221
URL:https://www.annurislamiccenterpa.org/event/m-a-l-i-arabic-class-2028-01-12/
LOCATION:An Nur Islamic Center\, 1017 Center Street\, Pittsburgh\, PA\, 15221\, United States
END:VEVENT
BEGIN:VEVENT
DTSTART;TZID=America/New_York:20280115T063000
DTEND;TZID=America/New_York:20280115T083000
DTSTAMP:20260423T061755
CREATED:20231007T141233Z
LAST-MODIFIED:20231007T141233Z
UID:14441-1831530600-1831537800@www.annurislamiccenterpa.org
SUMMARY:M.A.L.I Arabic Class with Imam Hammad Mahdi
DESCRIPTION:
URL:https://www.annurislamiccenterpa.org/event/m-a-l-i-arabic-class-with-imam-hammad-mahdi-2028-01-15/
LOCATION:An Nur Islamic Center\, 1017 Center Street\, Pittsburgh\, PA\, 15221\, United States
END:VEVENT
BEGIN:VEVENT
DTSTART;TZID=America/New_York:20280116T013000
DTEND;TZID=America/New_York:20280116T150000
DTSTAMP:20260423T061755
CREATED:20240807T162049Z
LAST-MODIFIED:20240807T162049Z
UID:14443-1831599000-1831647600@www.annurislamiccenterpa.org
SUMMARY:Qur'anic Studies Class
DESCRIPTION:Qur’anic Studies Class – Every 3rd Sunday\nTime: After Dhuhr Prayer\nInstructor: Imam Hammad Mahdi\nAddress: 1027 Center Street\, Pittsburgh\, PA 15221
URL:https://www.annurislamiccenterpa.org/event/quranic-studies-class-2028-01-16/
LOCATION:An Nur Islamic Center\, 1017 Center Street\, Pittsburgh\, PA\, 15221\, United States
END:VEVENT
BEGIN:VEVENT
DTSTART;TZID=America/New_York:20280116T063000
DTEND;TZID=America/New_York:20280116T083000
DTSTAMP:20260423T061755
CREATED:20231007T141233Z
LAST-MODIFIED:20231007T141233Z
UID:14442-1831617000-1831624200@www.annurislamiccenterpa.org
SUMMARY:M.A.L.I Arabic Class with Imam Hammad Mahdi
DESCRIPTION:
URL:https://www.annurislamiccenterpa.org/event/m-a-l-i-arabic-class-with-imam-hammad-mahdi-2028-01-16/
LOCATION:An Nur Islamic Center\, 1017 Center Street\, Pittsburgh\, PA\, 15221\, United States
END:VEVENT
BEGIN:VEVENT
DTSTART;TZID=America/New_York:20280119T163000
DTEND;TZID=America/New_York:20280119T180000
DTSTAMP:20260423T061755
CREATED:20240807T155347Z
LAST-MODIFIED:20240807T155347Z
UID:14444-1831912200-1831917600@www.annurislamiccenterpa.org
SUMMARY:M.A.L.I Arabic Class - Imam Walter Shaahid - Free
DESCRIPTION:M.A.L.I – Muslim American Logic Institute\nmuslimamericanlogic.ning.com\nInstructor: Imam Walter Shaahid\nLearn M.A.L.I system of teaching Arabic. Every Wednesday 4:30pm – 6pm.\nAddress: 1017 Center Street\, Pittsburgh\, PA\, 15221
URL:https://www.annurislamiccenterpa.org/event/m-a-l-i-arabic-class-2028-01-19/
LOCATION:An Nur Islamic Center\, 1017 Center Street\, Pittsburgh\, PA\, 15221\, United States
END:VEVENT
BEGIN:VEVENT
DTSTART;TZID=America/New_York:20280122T063000
DTEND;TZID=America/New_York:20280122T083000
DTSTAMP:20260423T061755
CREATED:20231007T141233Z
LAST-MODIFIED:20231007T141233Z
UID:14445-1832135400-1832142600@www.annurislamiccenterpa.org
SUMMARY:M.A.L.I Arabic Class with Imam Hammad Mahdi
DESCRIPTION:
URL:https://www.annurislamiccenterpa.org/event/m-a-l-i-arabic-class-with-imam-hammad-mahdi-2028-01-22/
LOCATION:An Nur Islamic Center\, 1017 Center Street\, Pittsburgh\, PA\, 15221\, United States
END:VEVENT
BEGIN:VEVENT
DTSTART;TZID=America/New_York:20280123T063000
DTEND;TZID=America/New_York:20280123T083000
DTSTAMP:20260423T061755
CREATED:20231007T141233Z
LAST-MODIFIED:20231007T141233Z
UID:14446-1832221800-1832229000@www.annurislamiccenterpa.org
SUMMARY:M.A.L.I Arabic Class with Imam Hammad Mahdi
DESCRIPTION:
URL:https://www.annurislamiccenterpa.org/event/m-a-l-i-arabic-class-with-imam-hammad-mahdi-2028-01-23/
LOCATION:An Nur Islamic Center\, 1017 Center Street\, Pittsburgh\, PA\, 15221\, United States
END:VEVENT
BEGIN:VEVENT
DTSTART;TZID=America/New_York:20280123T130000
DTEND;TZID=America/New_York:20280123T140000
DTSTAMP:20260423T061755
CREATED:20240903T183430Z
LAST-MODIFIED:20240903T183430Z
UID:14447-1832245200-1832248800@www.annurislamiccenterpa.org
SUMMARY:Monthly Community Meeting
DESCRIPTION:Monthly Community Meeting\nLocation: An-Nur Islamic Center (1017 Center St.)\nTime: After dhuhr prayer
URL:https://www.annurislamiccenterpa.org/event/monthly-community-meeting-2028-01-23/
LOCATION:An Nur Islamic Center\, 1017 Center Street\, Pittsburgh\, PA\, 15221\, United States
END:VEVENT
BEGIN:VEVENT
DTSTART;TZID=America/New_York:20280126T163000
DTEND;TZID=America/New_York:20280126T180000
DTSTAMP:20260423T061755
CREATED:20240807T155347Z
LAST-MODIFIED:20240807T155347Z
UID:14448-1832517000-1832522400@www.annurislamiccenterpa.org
SUMMARY:M.A.L.I Arabic Class - Imam Walter Shaahid - Free
DESCRIPTION:M.A.L.I – Muslim American Logic Institute\nmuslimamericanlogic.ning.com\nInstructor: Imam Walter Shaahid\nLearn M.A.L.I system of teaching Arabic. Every Wednesday 4:30pm – 6pm.\nAddress: 1017 Center Street\, Pittsburgh\, PA\, 15221
URL:https://www.annurislamiccenterpa.org/event/m-a-l-i-arabic-class-2028-01-26/
LOCATION:An Nur Islamic Center\, 1017 Center Street\, Pittsburgh\, PA\, 15221\, United States
END:VEVENT
END:VCALENDAR