BEGIN:VCALENDAR
VERSION:2.0
PRODID:-//An-Nur Islamic Center - ECPv6.15.16//NONSGML v1.0//EN
CALSCALE:GREGORIAN
METHOD:PUBLISH
X-WR-CALNAME:An-Nur Islamic Center
X-ORIGINAL-URL:https://www.annurislamiccenterpa.org
X-WR-CALDESC:Events for An-Nur Islamic Center
REFRESH-INTERVAL;VALUE=DURATION:PT1H
X-Robots-Tag:noindex
X-PUBLISHED-TTL:PT1H
BEGIN:VTIMEZONE
TZID:America/New_York
BEGIN:DAYLIGHT
TZOFFSETFROM:-0500
TZOFFSETTO:-0400
TZNAME:EDT
DTSTART:20260308T070000
END:DAYLIGHT
BEGIN:STANDARD
TZOFFSETFROM:-0400
TZOFFSETTO:-0500
TZNAME:EST
DTSTART:20261101T060000
END:STANDARD
BEGIN:DAYLIGHT
TZOFFSETFROM:-0500
TZOFFSETTO:-0400
TZNAME:EDT
DTSTART:20270314T070000
END:DAYLIGHT
BEGIN:STANDARD
TZOFFSETFROM:-0400
TZOFFSETTO:-0500
TZNAME:EST
DTSTART:20271107T060000
END:STANDARD
BEGIN:DAYLIGHT
TZOFFSETFROM:-0500
TZOFFSETTO:-0400
TZNAME:EDT
DTSTART:20280312T070000
END:DAYLIGHT
BEGIN:STANDARD
TZOFFSETFROM:-0400
TZOFFSETTO:-0500
TZNAME:EST
DTSTART:20281105T060000
END:STANDARD
END:VTIMEZONE
BEGIN:VEVENT
DTSTART;TZID=America/New_York:20271030T063000
DTEND;TZID=America/New_York:20271030T083000
DTSTAMP:20260423T013659
CREATED:20231007T141233Z
LAST-MODIFIED:20231007T141233Z
UID:14401-1824877800-1824885000@www.annurislamiccenterpa.org
SUMMARY:M.A.L.I Arabic Class with Imam Hammad Mahdi
DESCRIPTION:
URL:https://www.annurislamiccenterpa.org/event/m-a-l-i-arabic-class-with-imam-hammad-mahdi-2027-10-30/
LOCATION:An Nur Islamic Center\, 1017 Center Street\, Pittsburgh\, PA\, 15221\, United States
END:VEVENT
BEGIN:VEVENT
DTSTART;TZID=America/New_York:20271031T063000
DTEND;TZID=America/New_York:20271031T083000
DTSTAMP:20260423T013659
CREATED:20231007T141233Z
LAST-MODIFIED:20231007T141233Z
UID:14402-1824964200-1824971400@www.annurislamiccenterpa.org
SUMMARY:M.A.L.I Arabic Class with Imam Hammad Mahdi
DESCRIPTION:
URL:https://www.annurislamiccenterpa.org/event/m-a-l-i-arabic-class-with-imam-hammad-mahdi-2027-10-31/
LOCATION:An Nur Islamic Center\, 1017 Center Street\, Pittsburgh\, PA\, 15221\, United States
END:VEVENT
BEGIN:VEVENT
DTSTART;TZID=America/New_York:20271103T163000
DTEND;TZID=America/New_York:20271103T180000
DTSTAMP:20260423T013659
CREATED:20240807T155347Z
LAST-MODIFIED:20240807T155347Z
UID:14403-1825259400-1825264800@www.annurislamiccenterpa.org
SUMMARY:M.A.L.I Arabic Class - Imam Walter Shaahid - Free
DESCRIPTION:M.A.L.I – Muslim American Logic Institute\nmuslimamericanlogic.ning.com\nInstructor: Imam Walter Shaahid\nLearn M.A.L.I system of teaching Arabic. Every Wednesday 4:30pm – 6pm.\nAddress: 1017 Center Street\, Pittsburgh\, PA\, 15221
URL:https://www.annurislamiccenterpa.org/event/m-a-l-i-arabic-class-2027-11-03/
LOCATION:An Nur Islamic Center\, 1017 Center Street\, Pittsburgh\, PA\, 15221\, United States
END:VEVENT
BEGIN:VEVENT
DTSTART;TZID=America/New_York:20271106T063000
DTEND;TZID=America/New_York:20271106T083000
DTSTAMP:20260423T013659
CREATED:20231007T141233Z
LAST-MODIFIED:20231007T141233Z
UID:14404-1825482600-1825489800@www.annurislamiccenterpa.org
SUMMARY:M.A.L.I Arabic Class with Imam Hammad Mahdi
DESCRIPTION:
URL:https://www.annurislamiccenterpa.org/event/m-a-l-i-arabic-class-with-imam-hammad-mahdi-2027-11-06/
LOCATION:An Nur Islamic Center\, 1017 Center Street\, Pittsburgh\, PA\, 15221\, United States
END:VEVENT
BEGIN:VEVENT
DTSTART;TZID=America/New_York:20271107T063000
DTEND;TZID=America/New_York:20271107T083000
DTSTAMP:20260423T013659
CREATED:20231007T141233Z
LAST-MODIFIED:20231007T141233Z
UID:14405-1825569000-1825576200@www.annurislamiccenterpa.org
SUMMARY:M.A.L.I Arabic Class with Imam Hammad Mahdi
DESCRIPTION:
URL:https://www.annurislamiccenterpa.org/event/m-a-l-i-arabic-class-with-imam-hammad-mahdi-2027-11-07/
LOCATION:An Nur Islamic Center\, 1017 Center Street\, Pittsburgh\, PA\, 15221\, United States
END:VEVENT
BEGIN:VEVENT
DTSTART;TZID=America/New_York:20271110T163000
DTEND;TZID=America/New_York:20271110T180000
DTSTAMP:20260423T013659
CREATED:20240807T155347Z
LAST-MODIFIED:20240807T155347Z
UID:14406-1825864200-1825869600@www.annurislamiccenterpa.org
SUMMARY:M.A.L.I Arabic Class - Imam Walter Shaahid - Free
DESCRIPTION:M.A.L.I – Muslim American Logic Institute\nmuslimamericanlogic.ning.com\nInstructor: Imam Walter Shaahid\nLearn M.A.L.I system of teaching Arabic. Every Wednesday 4:30pm – 6pm.\nAddress: 1017 Center Street\, Pittsburgh\, PA\, 15221
URL:https://www.annurislamiccenterpa.org/event/m-a-l-i-arabic-class-2027-11-10/
LOCATION:An Nur Islamic Center\, 1017 Center Street\, Pittsburgh\, PA\, 15221\, United States
END:VEVENT
BEGIN:VEVENT
DTSTART;TZID=America/New_York:20271113T063000
DTEND;TZID=America/New_York:20271113T083000
DTSTAMP:20260423T013659
CREATED:20231007T141233Z
LAST-MODIFIED:20231007T141233Z
UID:14407-1826087400-1826094600@www.annurislamiccenterpa.org
SUMMARY:M.A.L.I Arabic Class with Imam Hammad Mahdi
DESCRIPTION:
URL:https://www.annurislamiccenterpa.org/event/m-a-l-i-arabic-class-with-imam-hammad-mahdi-2027-11-13/
LOCATION:An Nur Islamic Center\, 1017 Center Street\, Pittsburgh\, PA\, 15221\, United States
END:VEVENT
BEGIN:VEVENT
DTSTART;TZID=America/New_York:20271114T063000
DTEND;TZID=America/New_York:20271114T083000
DTSTAMP:20260423T013659
CREATED:20231007T141233Z
LAST-MODIFIED:20231007T141233Z
UID:14408-1826173800-1826181000@www.annurislamiccenterpa.org
SUMMARY:M.A.L.I Arabic Class with Imam Hammad Mahdi
DESCRIPTION:
URL:https://www.annurislamiccenterpa.org/event/m-a-l-i-arabic-class-with-imam-hammad-mahdi-2027-11-14/
LOCATION:An Nur Islamic Center\, 1017 Center Street\, Pittsburgh\, PA\, 15221\, United States
END:VEVENT
BEGIN:VEVENT
DTSTART;TZID=America/New_York:20271114T120000
DTEND;TZID=America/New_York:20271114T130000
DTSTAMP:20260423T013659
CREATED:20240903T182553Z
LAST-MODIFIED:20240903T182553Z
UID:14409-1826193600-1826197200@www.annurislamiccenterpa.org
SUMMARY:Majlis Board Meeting
DESCRIPTION:Monthly majlis board member meeting.  Virtual meeting every 2nd Sunday of the month.
URL:https://www.annurislamiccenterpa.org/event/majlis-board-meeting-2027-11-14/
LOCATION:PA
END:VEVENT
BEGIN:VEVENT
DTSTART;TZID=America/New_York:20271117T163000
DTEND;TZID=America/New_York:20271117T180000
DTSTAMP:20260423T013659
CREATED:20240807T155347Z
LAST-MODIFIED:20240807T155347Z
UID:14410-1826469000-1826474400@www.annurislamiccenterpa.org
SUMMARY:M.A.L.I Arabic Class - Imam Walter Shaahid - Free
DESCRIPTION:M.A.L.I – Muslim American Logic Institute\nmuslimamericanlogic.ning.com\nInstructor: Imam Walter Shaahid\nLearn M.A.L.I system of teaching Arabic. Every Wednesday 4:30pm – 6pm.\nAddress: 1017 Center Street\, Pittsburgh\, PA\, 15221
URL:https://www.annurislamiccenterpa.org/event/m-a-l-i-arabic-class-2027-11-17/
LOCATION:An Nur Islamic Center\, 1017 Center Street\, Pittsburgh\, PA\, 15221\, United States
END:VEVENT
BEGIN:VEVENT
DTSTART;TZID=America/New_York:20271120T063000
DTEND;TZID=America/New_York:20271120T083000
DTSTAMP:20260423T013659
CREATED:20231007T141233Z
LAST-MODIFIED:20231007T141233Z
UID:14411-1826692200-1826699400@www.annurislamiccenterpa.org
SUMMARY:M.A.L.I Arabic Class with Imam Hammad Mahdi
DESCRIPTION:
URL:https://www.annurislamiccenterpa.org/event/m-a-l-i-arabic-class-with-imam-hammad-mahdi-2027-11-20/
LOCATION:An Nur Islamic Center\, 1017 Center Street\, Pittsburgh\, PA\, 15221\, United States
END:VEVENT
BEGIN:VEVENT
DTSTART;TZID=America/New_York:20271121T013000
DTEND;TZID=America/New_York:20271121T150000
DTSTAMP:20260423T013659
CREATED:20240807T162049Z
LAST-MODIFIED:20240807T162049Z
UID:14413-1826760600-1826809200@www.annurislamiccenterpa.org
SUMMARY:Qur'anic Studies Class
DESCRIPTION:Qur’anic Studies Class – Every 3rd Sunday\nTime: After Dhuhr Prayer\nInstructor: Imam Hammad Mahdi\nAddress: 1027 Center Street\, Pittsburgh\, PA 15221
URL:https://www.annurislamiccenterpa.org/event/quranic-studies-class-2027-11-21/
LOCATION:An Nur Islamic Center\, 1017 Center Street\, Pittsburgh\, PA\, 15221\, United States
END:VEVENT
BEGIN:VEVENT
DTSTART;TZID=America/New_York:20271121T063000
DTEND;TZID=America/New_York:20271121T083000
DTSTAMP:20260423T013659
CREATED:20231007T141233Z
LAST-MODIFIED:20231007T141233Z
UID:14412-1826778600-1826785800@www.annurislamiccenterpa.org
SUMMARY:M.A.L.I Arabic Class with Imam Hammad Mahdi
DESCRIPTION:
URL:https://www.annurislamiccenterpa.org/event/m-a-l-i-arabic-class-with-imam-hammad-mahdi-2027-11-21/
LOCATION:An Nur Islamic Center\, 1017 Center Street\, Pittsburgh\, PA\, 15221\, United States
END:VEVENT
BEGIN:VEVENT
DTSTART;TZID=America/New_York:20271124T163000
DTEND;TZID=America/New_York:20271124T180000
DTSTAMP:20260423T013659
CREATED:20240807T155347Z
LAST-MODIFIED:20240807T155347Z
UID:14414-1827073800-1827079200@www.annurislamiccenterpa.org
SUMMARY:M.A.L.I Arabic Class - Imam Walter Shaahid - Free
DESCRIPTION:M.A.L.I – Muslim American Logic Institute\nmuslimamericanlogic.ning.com\nInstructor: Imam Walter Shaahid\nLearn M.A.L.I system of teaching Arabic. Every Wednesday 4:30pm – 6pm.\nAddress: 1017 Center Street\, Pittsburgh\, PA\, 15221
URL:https://www.annurislamiccenterpa.org/event/m-a-l-i-arabic-class-2027-11-24/
LOCATION:An Nur Islamic Center\, 1017 Center Street\, Pittsburgh\, PA\, 15221\, United States
END:VEVENT
BEGIN:VEVENT
DTSTART;TZID=America/New_York:20271127T063000
DTEND;TZID=America/New_York:20271127T083000
DTSTAMP:20260423T013659
CREATED:20231007T141233Z
LAST-MODIFIED:20231007T141233Z
UID:14415-1827297000-1827304200@www.annurislamiccenterpa.org
SUMMARY:M.A.L.I Arabic Class with Imam Hammad Mahdi
DESCRIPTION:
URL:https://www.annurislamiccenterpa.org/event/m-a-l-i-arabic-class-with-imam-hammad-mahdi-2027-11-27/
LOCATION:An Nur Islamic Center\, 1017 Center Street\, Pittsburgh\, PA\, 15221\, United States
END:VEVENT
BEGIN:VEVENT
DTSTART;TZID=America/New_York:20271128T063000
DTEND;TZID=America/New_York:20271128T083000
DTSTAMP:20260423T013659
CREATED:20231007T141233Z
LAST-MODIFIED:20231007T141233Z
UID:14416-1827383400-1827390600@www.annurislamiccenterpa.org
SUMMARY:M.A.L.I Arabic Class with Imam Hammad Mahdi
DESCRIPTION:
URL:https://www.annurislamiccenterpa.org/event/m-a-l-i-arabic-class-with-imam-hammad-mahdi-2027-11-28/
LOCATION:An Nur Islamic Center\, 1017 Center Street\, Pittsburgh\, PA\, 15221\, United States
END:VEVENT
BEGIN:VEVENT
DTSTART;TZID=America/New_York:20271128T130000
DTEND;TZID=America/New_York:20271128T140000
DTSTAMP:20260423T013659
CREATED:20240903T183430Z
LAST-MODIFIED:20240903T183430Z
UID:14417-1827406800-1827410400@www.annurislamiccenterpa.org
SUMMARY:Monthly Community Meeting
DESCRIPTION:Monthly Community Meeting\nLocation: An-Nur Islamic Center (1017 Center St.)\nTime: After dhuhr prayer
URL:https://www.annurislamiccenterpa.org/event/monthly-community-meeting-2027-11-28/
LOCATION:An Nur Islamic Center\, 1017 Center Street\, Pittsburgh\, PA\, 15221\, United States
END:VEVENT
BEGIN:VEVENT
DTSTART;TZID=America/New_York:20271201T163000
DTEND;TZID=America/New_York:20271201T180000
DTSTAMP:20260423T013659
CREATED:20240807T155347Z
LAST-MODIFIED:20240807T155347Z
UID:14418-1827678600-1827684000@www.annurislamiccenterpa.org
SUMMARY:M.A.L.I Arabic Class - Imam Walter Shaahid - Free
DESCRIPTION:M.A.L.I – Muslim American Logic Institute\nmuslimamericanlogic.ning.com\nInstructor: Imam Walter Shaahid\nLearn M.A.L.I system of teaching Arabic. Every Wednesday 4:30pm – 6pm.\nAddress: 1017 Center Street\, Pittsburgh\, PA\, 15221
URL:https://www.annurislamiccenterpa.org/event/m-a-l-i-arabic-class-2027-12-01/
LOCATION:An Nur Islamic Center\, 1017 Center Street\, Pittsburgh\, PA\, 15221\, United States
END:VEVENT
BEGIN:VEVENT
DTSTART;TZID=America/New_York:20271204T063000
DTEND;TZID=America/New_York:20271204T083000
DTSTAMP:20260423T013659
CREATED:20231007T141233Z
LAST-MODIFIED:20231007T141233Z
UID:14419-1827901800-1827909000@www.annurislamiccenterpa.org
SUMMARY:M.A.L.I Arabic Class with Imam Hammad Mahdi
DESCRIPTION:
URL:https://www.annurislamiccenterpa.org/event/m-a-l-i-arabic-class-with-imam-hammad-mahdi-2027-12-04/
LOCATION:An Nur Islamic Center\, 1017 Center Street\, Pittsburgh\, PA\, 15221\, United States
END:VEVENT
BEGIN:VEVENT
DTSTART;TZID=America/New_York:20271205T063000
DTEND;TZID=America/New_York:20271205T083000
DTSTAMP:20260423T013659
CREATED:20231007T141233Z
LAST-MODIFIED:20231007T141233Z
UID:14420-1827988200-1827995400@www.annurislamiccenterpa.org
SUMMARY:M.A.L.I Arabic Class with Imam Hammad Mahdi
DESCRIPTION:
URL:https://www.annurislamiccenterpa.org/event/m-a-l-i-arabic-class-with-imam-hammad-mahdi-2027-12-05/
LOCATION:An Nur Islamic Center\, 1017 Center Street\, Pittsburgh\, PA\, 15221\, United States
END:VEVENT
BEGIN:VEVENT
DTSTART;TZID=America/New_York:20271208T163000
DTEND;TZID=America/New_York:20271208T180000
DTSTAMP:20260423T013659
CREATED:20240807T155347Z
LAST-MODIFIED:20240807T155347Z
UID:14421-1828283400-1828288800@www.annurislamiccenterpa.org
SUMMARY:M.A.L.I Arabic Class - Imam Walter Shaahid - Free
DESCRIPTION:M.A.L.I – Muslim American Logic Institute\nmuslimamericanlogic.ning.com\nInstructor: Imam Walter Shaahid\nLearn M.A.L.I system of teaching Arabic. Every Wednesday 4:30pm – 6pm.\nAddress: 1017 Center Street\, Pittsburgh\, PA\, 15221
URL:https://www.annurislamiccenterpa.org/event/m-a-l-i-arabic-class-2027-12-08/
LOCATION:An Nur Islamic Center\, 1017 Center Street\, Pittsburgh\, PA\, 15221\, United States
END:VEVENT
BEGIN:VEVENT
DTSTART;TZID=America/New_York:20271211T063000
DTEND;TZID=America/New_York:20271211T083000
DTSTAMP:20260423T013659
CREATED:20231007T141233Z
LAST-MODIFIED:20231007T141233Z
UID:14422-1828506600-1828513800@www.annurislamiccenterpa.org
SUMMARY:M.A.L.I Arabic Class with Imam Hammad Mahdi
DESCRIPTION:
URL:https://www.annurislamiccenterpa.org/event/m-a-l-i-arabic-class-with-imam-hammad-mahdi-2027-12-11/
LOCATION:An Nur Islamic Center\, 1017 Center Street\, Pittsburgh\, PA\, 15221\, United States
END:VEVENT
BEGIN:VEVENT
DTSTART;TZID=America/New_York:20271212T063000
DTEND;TZID=America/New_York:20271212T083000
DTSTAMP:20260423T013659
CREATED:20231007T141233Z
LAST-MODIFIED:20231007T141233Z
UID:14423-1828593000-1828600200@www.annurislamiccenterpa.org
SUMMARY:M.A.L.I Arabic Class with Imam Hammad Mahdi
DESCRIPTION:
URL:https://www.annurislamiccenterpa.org/event/m-a-l-i-arabic-class-with-imam-hammad-mahdi-2027-12-12/
LOCATION:An Nur Islamic Center\, 1017 Center Street\, Pittsburgh\, PA\, 15221\, United States
END:VEVENT
BEGIN:VEVENT
DTSTART;TZID=America/New_York:20271212T120000
DTEND;TZID=America/New_York:20271212T130000
DTSTAMP:20260423T013659
CREATED:20240903T182553Z
LAST-MODIFIED:20240903T182553Z
UID:14424-1828612800-1828616400@www.annurislamiccenterpa.org
SUMMARY:Majlis Board Meeting
DESCRIPTION:Monthly majlis board member meeting.  Virtual meeting every 2nd Sunday of the month.
URL:https://www.annurislamiccenterpa.org/event/majlis-board-meeting-2027-12-12/
LOCATION:PA
END:VEVENT
BEGIN:VEVENT
DTSTART;TZID=America/New_York:20271215T163000
DTEND;TZID=America/New_York:20271215T180000
DTSTAMP:20260423T013659
CREATED:20240807T155347Z
LAST-MODIFIED:20240807T155347Z
UID:14425-1828888200-1828893600@www.annurislamiccenterpa.org
SUMMARY:M.A.L.I Arabic Class - Imam Walter Shaahid - Free
DESCRIPTION:M.A.L.I – Muslim American Logic Institute\nmuslimamericanlogic.ning.com\nInstructor: Imam Walter Shaahid\nLearn M.A.L.I system of teaching Arabic. Every Wednesday 4:30pm – 6pm.\nAddress: 1017 Center Street\, Pittsburgh\, PA\, 15221
URL:https://www.annurislamiccenterpa.org/event/m-a-l-i-arabic-class-2027-12-15/
LOCATION:An Nur Islamic Center\, 1017 Center Street\, Pittsburgh\, PA\, 15221\, United States
END:VEVENT
BEGIN:VEVENT
DTSTART;TZID=America/New_York:20271218T063000
DTEND;TZID=America/New_York:20271218T083000
DTSTAMP:20260423T013659
CREATED:20231007T141233Z
LAST-MODIFIED:20231007T141233Z
UID:14426-1829111400-1829118600@www.annurislamiccenterpa.org
SUMMARY:M.A.L.I Arabic Class with Imam Hammad Mahdi
DESCRIPTION:
URL:https://www.annurislamiccenterpa.org/event/m-a-l-i-arabic-class-with-imam-hammad-mahdi-2027-12-18/
LOCATION:An Nur Islamic Center\, 1017 Center Street\, Pittsburgh\, PA\, 15221\, United States
END:VEVENT
BEGIN:VEVENT
DTSTART;TZID=America/New_York:20271219T013000
DTEND;TZID=America/New_York:20271219T150000
DTSTAMP:20260423T013659
CREATED:20240807T162049Z
LAST-MODIFIED:20240807T162049Z
UID:14428-1829179800-1829228400@www.annurislamiccenterpa.org
SUMMARY:Qur'anic Studies Class
DESCRIPTION:Qur’anic Studies Class – Every 3rd Sunday\nTime: After Dhuhr Prayer\nInstructor: Imam Hammad Mahdi\nAddress: 1027 Center Street\, Pittsburgh\, PA 15221
URL:https://www.annurislamiccenterpa.org/event/quranic-studies-class-2027-12-19/
LOCATION:An Nur Islamic Center\, 1017 Center Street\, Pittsburgh\, PA\, 15221\, United States
END:VEVENT
BEGIN:VEVENT
DTSTART;TZID=America/New_York:20271219T063000
DTEND;TZID=America/New_York:20271219T083000
DTSTAMP:20260423T013659
CREATED:20231007T141233Z
LAST-MODIFIED:20231007T141233Z
UID:14427-1829197800-1829205000@www.annurislamiccenterpa.org
SUMMARY:M.A.L.I Arabic Class with Imam Hammad Mahdi
DESCRIPTION:
URL:https://www.annurislamiccenterpa.org/event/m-a-l-i-arabic-class-with-imam-hammad-mahdi-2027-12-19/
LOCATION:An Nur Islamic Center\, 1017 Center Street\, Pittsburgh\, PA\, 15221\, United States
END:VEVENT
BEGIN:VEVENT
DTSTART;TZID=America/New_York:20271222T163000
DTEND;TZID=America/New_York:20271222T180000
DTSTAMP:20260423T013659
CREATED:20240807T155347Z
LAST-MODIFIED:20240807T155347Z
UID:14429-1829493000-1829498400@www.annurislamiccenterpa.org
SUMMARY:M.A.L.I Arabic Class - Imam Walter Shaahid - Free
DESCRIPTION:M.A.L.I – Muslim American Logic Institute\nmuslimamericanlogic.ning.com\nInstructor: Imam Walter Shaahid\nLearn M.A.L.I system of teaching Arabic. Every Wednesday 4:30pm – 6pm.\nAddress: 1017 Center Street\, Pittsburgh\, PA\, 15221
URL:https://www.annurislamiccenterpa.org/event/m-a-l-i-arabic-class-2027-12-22/
LOCATION:An Nur Islamic Center\, 1017 Center Street\, Pittsburgh\, PA\, 15221\, United States
END:VEVENT
BEGIN:VEVENT
DTSTART;TZID=America/New_York:20271225T063000
DTEND;TZID=America/New_York:20271225T083000
DTSTAMP:20260423T013659
CREATED:20231007T141233Z
LAST-MODIFIED:20231007T141233Z
UID:14430-1829716200-1829723400@www.annurislamiccenterpa.org
SUMMARY:M.A.L.I Arabic Class with Imam Hammad Mahdi
DESCRIPTION:
URL:https://www.annurislamiccenterpa.org/event/m-a-l-i-arabic-class-with-imam-hammad-mahdi-2027-12-25/
LOCATION:An Nur Islamic Center\, 1017 Center Street\, Pittsburgh\, PA\, 15221\, United States
END:VEVENT
END:VCALENDAR