BEGIN:VCALENDAR
VERSION:2.0
PRODID:-//An-Nur Islamic Center - ECPv6.15.16//NONSGML v1.0//EN
CALSCALE:GREGORIAN
METHOD:PUBLISH
X-WR-CALNAME:An-Nur Islamic Center
X-ORIGINAL-URL:https://www.annurislamiccenterpa.org
X-WR-CALDESC:Events for An-Nur Islamic Center
REFRESH-INTERVAL;VALUE=DURATION:PT1H
X-Robots-Tag:noindex
X-PUBLISHED-TTL:PT1H
BEGIN:VTIMEZONE
TZID:America/New_York
BEGIN:DAYLIGHT
TZOFFSETFROM:-0500
TZOFFSETTO:-0400
TZNAME:EDT
DTSTART:20210314T070000
END:DAYLIGHT
BEGIN:STANDARD
TZOFFSETFROM:-0400
TZOFFSETTO:-0500
TZNAME:EST
DTSTART:20211107T060000
END:STANDARD
BEGIN:DAYLIGHT
TZOFFSETFROM:-0500
TZOFFSETTO:-0400
TZNAME:EDT
DTSTART:20220313T070000
END:DAYLIGHT
BEGIN:STANDARD
TZOFFSETFROM:-0400
TZOFFSETTO:-0500
TZNAME:EST
DTSTART:20221106T060000
END:STANDARD
BEGIN:DAYLIGHT
TZOFFSETFROM:-0500
TZOFFSETTO:-0400
TZNAME:EDT
DTSTART:20230312T070000
END:DAYLIGHT
BEGIN:STANDARD
TZOFFSETFROM:-0400
TZOFFSETTO:-0500
TZNAME:EST
DTSTART:20231105T060000
END:STANDARD
BEGIN:DAYLIGHT
TZOFFSETFROM:-0500
TZOFFSETTO:-0400
TZNAME:EDT
DTSTART:20240310T070000
END:DAYLIGHT
BEGIN:STANDARD
TZOFFSETFROM:-0400
TZOFFSETTO:-0500
TZNAME:EST
DTSTART:20241103T060000
END:STANDARD
BEGIN:DAYLIGHT
TZOFFSETFROM:-0500
TZOFFSETTO:-0400
TZNAME:EDT
DTSTART:20250309T070000
END:DAYLIGHT
BEGIN:STANDARD
TZOFFSETFROM:-0400
TZOFFSETTO:-0500
TZNAME:EST
DTSTART:20251102T060000
END:STANDARD
END:VTIMEZONE
BEGIN:VEVENT
DTSTART;TZID=America/New_York:20240313T170000
DTEND;TZID=America/New_York:20240313T180000
DTSTAMP:20260423T001937
CREATED:20220502T025801Z
LAST-MODIFIED:20220706T000703Z
UID:1080-1710349200-1710352800@www.annurislamiccenterpa.org
SUMMARY:MALI Arabic Classes with Associate Imam Walter Shaahid
DESCRIPTION:
URL:https://www.annurislamiccenterpa.org/event/mali-arabic-classes-with-associate-imam-walter-shaahid-2024-03-13/
LOCATION:An Nur Islamic Center\, 1017 Center Street\, Pittsburgh\, PA\, 15221\, United States
CATEGORIES:Class
ATTACH;FMTTYPE=image/jpeg:https://www.annurislamiccenterpa.org/wp-content/uploads/2022/05/young-muslim-student.jpg
END:VEVENT
BEGIN:VEVENT
DTSTART;TZID=America/New_York:20240310T063000
DTEND;TZID=America/New_York:20240310T083000
DTSTAMP:20260423T001937
CREATED:20231007T141233Z
LAST-MODIFIED:20231007T141233Z
UID:3929-1710052200-1710059400@www.annurislamiccenterpa.org
SUMMARY:M.A.L.I Arabic Class with Imam Hammad Mahdi
DESCRIPTION:
URL:https://www.annurislamiccenterpa.org/event/m-a-l-i-arabic-class-with-imam-hammad-mahdi-2024-03-10/
LOCATION:An Nur Islamic Center\, 1017 Center Street\, Pittsburgh\, PA\, 15221\, United States
END:VEVENT
BEGIN:VEVENT
DTSTART;TZID=America/New_York:20240309T063000
DTEND;TZID=America/New_York:20240309T083000
DTSTAMP:20260423T001937
CREATED:20231007T141233Z
LAST-MODIFIED:20231007T141233Z
UID:3928-1709965800-1709973000@www.annurislamiccenterpa.org
SUMMARY:M.A.L.I Arabic Class with Imam Hammad Mahdi
DESCRIPTION:
URL:https://www.annurislamiccenterpa.org/event/m-a-l-i-arabic-class-with-imam-hammad-mahdi-2024-03-09/
LOCATION:An Nur Islamic Center\, 1017 Center Street\, Pittsburgh\, PA\, 15221\, United States
END:VEVENT
BEGIN:VEVENT
DTSTART;TZID=America/New_York:20240306T170000
DTEND;TZID=America/New_York:20240306T180000
DTSTAMP:20260423T001937
CREATED:20220502T025801Z
LAST-MODIFIED:20220706T000703Z
UID:1079-1709744400-1709748000@www.annurislamiccenterpa.org
SUMMARY:MALI Arabic Classes with Associate Imam Walter Shaahid
DESCRIPTION:
URL:https://www.annurislamiccenterpa.org/event/mali-arabic-classes-with-associate-imam-walter-shaahid-2024-03-06/
LOCATION:An Nur Islamic Center\, 1017 Center Street\, Pittsburgh\, PA\, 15221\, United States
CATEGORIES:Class
ATTACH;FMTTYPE=image/jpeg:https://www.annurislamiccenterpa.org/wp-content/uploads/2022/05/young-muslim-student.jpg
END:VEVENT
BEGIN:VEVENT
DTSTART;TZID=America/New_York:20240303T063000
DTEND;TZID=America/New_York:20240303T083000
DTSTAMP:20260423T001937
CREATED:20231007T141233Z
LAST-MODIFIED:20231007T141233Z
UID:3927-1709447400-1709454600@www.annurislamiccenterpa.org
SUMMARY:M.A.L.I Arabic Class with Imam Hammad Mahdi
DESCRIPTION:
URL:https://www.annurislamiccenterpa.org/event/m-a-l-i-arabic-class-with-imam-hammad-mahdi-2024-03-03/
LOCATION:An Nur Islamic Center\, 1017 Center Street\, Pittsburgh\, PA\, 15221\, United States
END:VEVENT
BEGIN:VEVENT
DTSTART;TZID=America/New_York:20240302T063000
DTEND;TZID=America/New_York:20240302T083000
DTSTAMP:20260423T001937
CREATED:20231007T141233Z
LAST-MODIFIED:20231007T141233Z
UID:3926-1709361000-1709368200@www.annurislamiccenterpa.org
SUMMARY:M.A.L.I Arabic Class with Imam Hammad Mahdi
DESCRIPTION:
URL:https://www.annurislamiccenterpa.org/event/m-a-l-i-arabic-class-with-imam-hammad-mahdi-2024-03-02/
LOCATION:An Nur Islamic Center\, 1017 Center Street\, Pittsburgh\, PA\, 15221\, United States
END:VEVENT
BEGIN:VEVENT
DTSTART;TZID=America/New_York:20240228T170000
DTEND;TZID=America/New_York:20240228T180000
DTSTAMP:20260423T001937
CREATED:20220502T025801Z
LAST-MODIFIED:20220706T000702Z
UID:1078-1709139600-1709143200@www.annurislamiccenterpa.org
SUMMARY:MALI Arabic Classes with Associate Imam Walter Shaahid
DESCRIPTION:
URL:https://www.annurislamiccenterpa.org/event/mali-arabic-classes-with-associate-imam-walter-shaahid-2024-02-28/
LOCATION:An Nur Islamic Center\, 1017 Center Street\, Pittsburgh\, PA\, 15221\, United States
CATEGORIES:Class
ATTACH;FMTTYPE=image/jpeg:https://www.annurislamiccenterpa.org/wp-content/uploads/2022/05/young-muslim-student.jpg
END:VEVENT
BEGIN:VEVENT
DTSTART;TZID=America/New_York:20240225T063000
DTEND;TZID=America/New_York:20240225T083000
DTSTAMP:20260423T001937
CREATED:20231007T141233Z
LAST-MODIFIED:20231007T141233Z
UID:3925-1708842600-1708849800@www.annurislamiccenterpa.org
SUMMARY:M.A.L.I Arabic Class with Imam Hammad Mahdi
DESCRIPTION:
URL:https://www.annurislamiccenterpa.org/event/m-a-l-i-arabic-class-with-imam-hammad-mahdi-2024-02-25/
LOCATION:An Nur Islamic Center\, 1017 Center Street\, Pittsburgh\, PA\, 15221\, United States
END:VEVENT
BEGIN:VEVENT
DTSTART;TZID=America/New_York:20240224T063000
DTEND;TZID=America/New_York:20240224T083000
DTSTAMP:20260423T001937
CREATED:20231007T141233Z
LAST-MODIFIED:20231007T141233Z
UID:3924-1708756200-1708763400@www.annurislamiccenterpa.org
SUMMARY:M.A.L.I Arabic Class with Imam Hammad Mahdi
DESCRIPTION:
URL:https://www.annurislamiccenterpa.org/event/m-a-l-i-arabic-class-with-imam-hammad-mahdi-2024-02-24/
LOCATION:An Nur Islamic Center\, 1017 Center Street\, Pittsburgh\, PA\, 15221\, United States
END:VEVENT
BEGIN:VEVENT
DTSTART;TZID=America/New_York:20240221T170000
DTEND;TZID=America/New_York:20240221T180000
DTSTAMP:20260423T001937
CREATED:20220502T025801Z
LAST-MODIFIED:20220706T000702Z
UID:1077-1708534800-1708538400@www.annurislamiccenterpa.org
SUMMARY:MALI Arabic Classes with Associate Imam Walter Shaahid
DESCRIPTION:
URL:https://www.annurislamiccenterpa.org/event/mali-arabic-classes-with-associate-imam-walter-shaahid-2024-02-21/
LOCATION:An Nur Islamic Center\, 1017 Center Street\, Pittsburgh\, PA\, 15221\, United States
CATEGORIES:Class
ATTACH;FMTTYPE=image/jpeg:https://www.annurislamiccenterpa.org/wp-content/uploads/2022/05/young-muslim-student.jpg
END:VEVENT
BEGIN:VEVENT
DTSTART;TZID=America/New_York:20240218T063000
DTEND;TZID=America/New_York:20240218T083000
DTSTAMP:20260423T001937
CREATED:20231007T141233Z
LAST-MODIFIED:20231007T141233Z
UID:3923-1708237800-1708245000@www.annurislamiccenterpa.org
SUMMARY:M.A.L.I Arabic Class with Imam Hammad Mahdi
DESCRIPTION:
URL:https://www.annurislamiccenterpa.org/event/m-a-l-i-arabic-class-with-imam-hammad-mahdi-2024-02-18/
LOCATION:An Nur Islamic Center\, 1017 Center Street\, Pittsburgh\, PA\, 15221\, United States
END:VEVENT
BEGIN:VEVENT
DTSTART;TZID=America/New_York:20240217T063000
DTEND;TZID=America/New_York:20240217T083000
DTSTAMP:20260423T001937
CREATED:20231007T141233Z
LAST-MODIFIED:20231007T141233Z
UID:3922-1708151400-1708158600@www.annurislamiccenterpa.org
SUMMARY:M.A.L.I Arabic Class with Imam Hammad Mahdi
DESCRIPTION:
URL:https://www.annurislamiccenterpa.org/event/m-a-l-i-arabic-class-with-imam-hammad-mahdi-2024-02-17/
LOCATION:An Nur Islamic Center\, 1017 Center Street\, Pittsburgh\, PA\, 15221\, United States
END:VEVENT
BEGIN:VEVENT
DTSTART;TZID=America/New_York:20240214T170000
DTEND;TZID=America/New_York:20240214T180000
DTSTAMP:20260423T001937
CREATED:20220502T025801Z
LAST-MODIFIED:20220706T000702Z
UID:1076-1707930000-1707933600@www.annurislamiccenterpa.org
SUMMARY:MALI Arabic Classes with Associate Imam Walter Shaahid
DESCRIPTION:
URL:https://www.annurislamiccenterpa.org/event/mali-arabic-classes-with-associate-imam-walter-shaahid-2024-02-14/
LOCATION:An Nur Islamic Center\, 1017 Center Street\, Pittsburgh\, PA\, 15221\, United States
CATEGORIES:Class
ATTACH;FMTTYPE=image/jpeg:https://www.annurislamiccenterpa.org/wp-content/uploads/2022/05/young-muslim-student.jpg
END:VEVENT
BEGIN:VEVENT
DTSTART;TZID=America/New_York:20240211T063000
DTEND;TZID=America/New_York:20240211T083000
DTSTAMP:20260423T001937
CREATED:20231007T141233Z
LAST-MODIFIED:20231007T141233Z
UID:3921-1707633000-1707640200@www.annurislamiccenterpa.org
SUMMARY:M.A.L.I Arabic Class with Imam Hammad Mahdi
DESCRIPTION:
URL:https://www.annurislamiccenterpa.org/event/m-a-l-i-arabic-class-with-imam-hammad-mahdi-2024-02-11/
LOCATION:An Nur Islamic Center\, 1017 Center Street\, Pittsburgh\, PA\, 15221\, United States
END:VEVENT
BEGIN:VEVENT
DTSTART;TZID=America/New_York:20240210T063000
DTEND;TZID=America/New_York:20240210T083000
DTSTAMP:20260423T001937
CREATED:20231007T141233Z
LAST-MODIFIED:20231007T141233Z
UID:3920-1707546600-1707553800@www.annurislamiccenterpa.org
SUMMARY:M.A.L.I Arabic Class with Imam Hammad Mahdi
DESCRIPTION:
URL:https://www.annurislamiccenterpa.org/event/m-a-l-i-arabic-class-with-imam-hammad-mahdi-2024-02-10/
LOCATION:An Nur Islamic Center\, 1017 Center Street\, Pittsburgh\, PA\, 15221\, United States
END:VEVENT
BEGIN:VEVENT
DTSTART;TZID=America/New_York:20240207T170000
DTEND;TZID=America/New_York:20240207T180000
DTSTAMP:20260423T001937
CREATED:20220502T025801Z
LAST-MODIFIED:20220706T000702Z
UID:1075-1707325200-1707328800@www.annurislamiccenterpa.org
SUMMARY:MALI Arabic Classes with Associate Imam Walter Shaahid
DESCRIPTION:
URL:https://www.annurislamiccenterpa.org/event/mali-arabic-classes-with-associate-imam-walter-shaahid-2024-02-07/
LOCATION:An Nur Islamic Center\, 1017 Center Street\, Pittsburgh\, PA\, 15221\, United States
CATEGORIES:Class
ATTACH;FMTTYPE=image/jpeg:https://www.annurislamiccenterpa.org/wp-content/uploads/2022/05/young-muslim-student.jpg
END:VEVENT
BEGIN:VEVENT
DTSTART;TZID=America/New_York:20240204T063000
DTEND;TZID=America/New_York:20240204T083000
DTSTAMP:20260423T001937
CREATED:20231007T141233Z
LAST-MODIFIED:20231007T141233Z
UID:3919-1707028200-1707035400@www.annurislamiccenterpa.org
SUMMARY:M.A.L.I Arabic Class with Imam Hammad Mahdi
DESCRIPTION:
URL:https://www.annurislamiccenterpa.org/event/m-a-l-i-arabic-class-with-imam-hammad-mahdi-2024-02-04/
LOCATION:An Nur Islamic Center\, 1017 Center Street\, Pittsburgh\, PA\, 15221\, United States
END:VEVENT
BEGIN:VEVENT
DTSTART;TZID=America/New_York:20240203T063000
DTEND;TZID=America/New_York:20240203T083000
DTSTAMP:20260423T001937
CREATED:20231007T141233Z
LAST-MODIFIED:20231007T141233Z
UID:3918-1706941800-1706949000@www.annurislamiccenterpa.org
SUMMARY:M.A.L.I Arabic Class with Imam Hammad Mahdi
DESCRIPTION:
URL:https://www.annurislamiccenterpa.org/event/m-a-l-i-arabic-class-with-imam-hammad-mahdi-2024-02-03/
LOCATION:An Nur Islamic Center\, 1017 Center Street\, Pittsburgh\, PA\, 15221\, United States
END:VEVENT
BEGIN:VEVENT
DTSTART;TZID=America/New_York:20240131T170000
DTEND;TZID=America/New_York:20240131T180000
DTSTAMP:20260423T001937
CREATED:20220502T025801Z
LAST-MODIFIED:20220706T000702Z
UID:1074-1706720400-1706724000@www.annurislamiccenterpa.org
SUMMARY:MALI Arabic Classes with Associate Imam Walter Shaahid
DESCRIPTION:
URL:https://www.annurislamiccenterpa.org/event/mali-arabic-classes-with-associate-imam-walter-shaahid-2024-01-31/
LOCATION:An Nur Islamic Center\, 1017 Center Street\, Pittsburgh\, PA\, 15221\, United States
CATEGORIES:Class
ATTACH;FMTTYPE=image/jpeg:https://www.annurislamiccenterpa.org/wp-content/uploads/2022/05/young-muslim-student.jpg
END:VEVENT
BEGIN:VEVENT
DTSTART;TZID=America/New_York:20240128T063000
DTEND;TZID=America/New_York:20240128T083000
DTSTAMP:20260423T001937
CREATED:20231007T141233Z
LAST-MODIFIED:20231007T141233Z
UID:3917-1706423400-1706430600@www.annurislamiccenterpa.org
SUMMARY:M.A.L.I Arabic Class with Imam Hammad Mahdi
DESCRIPTION:
URL:https://www.annurislamiccenterpa.org/event/m-a-l-i-arabic-class-with-imam-hammad-mahdi-2024-01-28/
LOCATION:An Nur Islamic Center\, 1017 Center Street\, Pittsburgh\, PA\, 15221\, United States
END:VEVENT
BEGIN:VEVENT
DTSTART;TZID=America/New_York:20231014T063000
DTEND;TZID=America/New_York:20231014T083000
DTSTAMP:20260423T001937
CREATED:20231007T141233Z
LAST-MODIFIED:20231007T141414Z
UID:3678-1697265000-1697272200@www.annurislamiccenterpa.org
SUMMARY:M.A.L.I Arabic Class with Imam Hammad Mahdi
DESCRIPTION:
URL:https://www.annurislamiccenterpa.org/event/m-a-l-i-arabic-class-with-imam-hammad-mahdi/
LOCATION:An Nur Islamic Center\, 1017 Center Street\, Pittsburgh\, PA\, 15221\, United States
END:VEVENT
BEGIN:VEVENT
DTSTART;TZID=America/New_York:20230422T140000
DTEND;TZID=America/New_York:20230422T160000
DTSTAMP:20260423T001937
CREATED:20230418T022800Z
LAST-MODIFIED:20230418T023842Z
UID:3335-1682172000-1682179200@www.annurislamiccenterpa.org
SUMMARY:Eid Celebration @ Zone 28
DESCRIPTION:
URL:https://www.annurislamiccenterpa.org/event/eid-celebration-zone-28/
LOCATION:Zone 28\, 2525 Freeport Rd\, Pittsburgh\, PA\, 15238\, United States
END:VEVENT
BEGIN:VEVENT
DTSTART;TZID=America/New_York:20220820T080000
DTEND;TZID=America/New_York:20220820T200000
DTSTAMP:20260423T001937
CREATED:20220706T001126Z
LAST-MODIFIED:20220706T001644Z
UID:2214-1660982400-1661025600@www.annurislamiccenterpa.org
SUMMARY:Back to School Cook-out
DESCRIPTION:Join us for an all-day cook-out experience
URL:https://www.annurislamiccenterpa.org/event/back-to-school-cook-out/
LOCATION:Schenley Park\, Schenley Park\, Pittsburgh\, PA\, 15213
CATEGORIES:Back to School
END:VEVENT
BEGIN:VEVENT
DTSTART;TZID=America/New_York:20220507T063000
DTEND;TZID=America/New_York:20220507T203000
DTSTAMP:20260423T001937
CREATED:20220502T065501Z
LAST-MODIFIED:20220502T025611Z
UID:563-1651905000-1651955400@www.annurislamiccenterpa.org
SUMMARY:MALI Arabic Classes with Imam Hammad Mahdi
DESCRIPTION:
URL:https://www.annurislamiccenterpa.org/event/mali-arabic-classes-with-imam-hammad-mahdi/
LOCATION:An Nur Islamic Center\, 1017 Center Street\, Pittsburgh\, PA\, 15221\, United States
CATEGORIES:Class
ATTACH;FMTTYPE=image/jpeg:https://www.annurislamiccenterpa.org/wp-content/uploads/2022/05/young-muslim-student-in-class.jpg
END:VEVENT
BEGIN:VEVENT
DTSTART;TZID=America/New_York:20220506T131500
DTEND;TZID=America/New_York:20220506T141500
DTSTAMP:20260423T001937
CREATED:20220502T030636Z
LAST-MODIFIED:20220502T030636Z
UID:1298-1651842900-1651846500@www.annurislamiccenterpa.org
SUMMARY:Jummah (Prayer Service)
DESCRIPTION:
URL:https://www.annurislamiccenterpa.org/event/jummah-prayer-service/
LOCATION:An Nur Islamic Center\, 1017 Center Street\, Pittsburgh\, PA\, 15221\, United States
CATEGORIES:Prayer Service
ATTACH;FMTTYPE=image/jpeg:https://www.annurislamiccenterpa.org/wp-content/uploads/2022/05/muslim-praying-in-tashahhud-posture.jpg
END:VEVENT
BEGIN:VEVENT
DTSTART;TZID=America/New_York:20220504T170000
DTEND;TZID=America/New_York:20220504T180000
DTSTAMP:20260423T001937
CREATED:20220502T025801Z
LAST-MODIFIED:20220706T001118Z
UID:845-1651683600-1651687200@www.annurislamiccenterpa.org
SUMMARY:MALI Arabic Classes with Associate Imam Walter Shaahid
DESCRIPTION:
URL:https://www.annurislamiccenterpa.org/event/mali-arabic-classes-with-associate-imam-walter-shaahid/
LOCATION:An Nur Islamic Center\, 1017 Center Street\, Pittsburgh\, PA\, 15221\, United States
CATEGORIES:Class
ATTACH;FMTTYPE=image/jpeg:https://www.annurislamiccenterpa.org/wp-content/uploads/2022/05/young-muslim-student.jpg
END:VEVENT
BEGIN:VEVENT
DTSTART;TZID=America/New_York:20220502T120000
DTEND;TZID=America/New_York:20220502T140000
DTSTAMP:20260423T001937
CREATED:20220502T031831Z
LAST-MODIFIED:20220502T031831Z
UID:1449-1651492800-1651500000@www.annurislamiccenterpa.org
SUMMARY:May 2nd EID Mubarak! Grab and Go Dinners (Adults)
DESCRIPTION:
URL:https://www.annurislamiccenterpa.org/event/grab-and-go-dinners-adults/
LOCATION:An Nur Islamic Center\, 1017 Center Street\, Pittsburgh\, PA\, 15221\, United States
CATEGORIES:EID Mubarak
ATTACH;FMTTYPE=image/jpeg:https://www.annurislamiccenterpa.org/wp-content/uploads/2022/05/muslim-ramadan-iftar-dinner-with-turkish-typical-foods-copy-space.jpg
END:VEVENT
BEGIN:VEVENT
DTSTART;TZID=America/New_York:20220502T120000
DTEND;TZID=America/New_York:20220502T140000
DTSTAMP:20260423T001937
CREATED:20220502T031700Z
LAST-MODIFIED:20220502T033703Z
UID:1446-1651492800-1651500000@www.annurislamiccenterpa.org
SUMMARY:May 2nd EID Mubarak!  Eid Toy Distribution & Lunch (Youth)
DESCRIPTION:
URL:https://www.annurislamiccenterpa.org/event/may-2nd-eid-mubarak-eid-toy-distribution-lunch-youth/
LOCATION:An Nur Islamic Center\, 1017 Center Street\, Pittsburgh\, PA\, 15221\, United States
CATEGORIES:EID Mubarak
ATTACH;FMTTYPE=image/jpeg:https://www.annurislamiccenterpa.org/wp-content/uploads/2022/05/An-Nur-Toy-Distribution.jpeg
END:VEVENT
END:VCALENDAR