BEGIN:VCALENDAR
VERSION:2.0
PRODID:-//An-Nur Islamic Center - ECPv6.15.16//NONSGML v1.0//EN
CALSCALE:GREGORIAN
METHOD:PUBLISH
X-WR-CALNAME:An-Nur Islamic Center
X-ORIGINAL-URL:https://www.annurislamiccenterpa.org
X-WR-CALDESC:Events for An-Nur Islamic Center
REFRESH-INTERVAL;VALUE=DURATION:PT1H
X-Robots-Tag:noindex
X-PUBLISHED-TTL:PT1H
BEGIN:VTIMEZONE
TZID:America/New_York
BEGIN:DAYLIGHT
TZOFFSETFROM:-0500
TZOFFSETTO:-0400
TZNAME:EDT
DTSTART:20250309T070000
END:DAYLIGHT
BEGIN:STANDARD
TZOFFSETFROM:-0400
TZOFFSETTO:-0500
TZNAME:EST
DTSTART:20251102T060000
END:STANDARD
BEGIN:DAYLIGHT
TZOFFSETFROM:-0500
TZOFFSETTO:-0400
TZNAME:EDT
DTSTART:20260308T070000
END:DAYLIGHT
BEGIN:STANDARD
TZOFFSETFROM:-0400
TZOFFSETTO:-0500
TZNAME:EST
DTSTART:20261101T060000
END:STANDARD
BEGIN:DAYLIGHT
TZOFFSETFROM:-0500
TZOFFSETTO:-0400
TZNAME:EDT
DTSTART:20270314T070000
END:DAYLIGHT
BEGIN:STANDARD
TZOFFSETFROM:-0400
TZOFFSETTO:-0500
TZNAME:EST
DTSTART:20271107T060000
END:STANDARD
END:VTIMEZONE
BEGIN:VEVENT
DTSTART;TZID=America/New_York:20260902T163000
DTEND;TZID=America/New_York:20260902T180000
DTSTAMP:20260421T155831
CREATED:20240807T155347Z
LAST-MODIFIED:20240807T155347Z
UID:6474-1788366600-1788372000@www.annurislamiccenterpa.org
SUMMARY:M.A.L.I Arabic Class - Imam Walter Shaahid - Free
DESCRIPTION:M.A.L.I – Muslim American Logic Institute\nmuslimamericanlogic.ning.com\nInstructor: Imam Walter Shaahid\nLearn M.A.L.I system of teaching Arabic. Every Wednesday 4:30pm – 6pm.\nAddress: 1017 Center Street\, Pittsburgh\, PA\, 15221
URL:https://www.annurislamiccenterpa.org/event/m-a-l-i-arabic-class-2026-09-02/
LOCATION:An Nur Islamic Center\, 1017 Center Street\, Pittsburgh\, PA\, 15221\, United States
END:VEVENT
BEGIN:VEVENT
DTSTART;TZID=America/New_York:20260905T063000
DTEND;TZID=America/New_York:20260905T083000
DTSTAMP:20260421T155831
CREATED:20231007T141233Z
LAST-MODIFIED:20231007T141233Z
UID:6488-1788589800-1788597000@www.annurislamiccenterpa.org
SUMMARY:M.A.L.I Arabic Class with Imam Hammad Mahdi
DESCRIPTION:
URL:https://www.annurislamiccenterpa.org/event/m-a-l-i-arabic-class-with-imam-hammad-mahdi-2026-09-05/
LOCATION:An Nur Islamic Center\, 1017 Center Street\, Pittsburgh\, PA\, 15221\, United States
END:VEVENT
BEGIN:VEVENT
DTSTART;TZID=America/New_York:20260906T063000
DTEND;TZID=America/New_York:20260906T083000
DTSTAMP:20260421T155831
CREATED:20231007T141233Z
LAST-MODIFIED:20231007T141233Z
UID:6490-1788676200-1788683400@www.annurislamiccenterpa.org
SUMMARY:M.A.L.I Arabic Class with Imam Hammad Mahdi
DESCRIPTION:
URL:https://www.annurislamiccenterpa.org/event/m-a-l-i-arabic-class-with-imam-hammad-mahdi-2026-09-06/
LOCATION:An Nur Islamic Center\, 1017 Center Street\, Pittsburgh\, PA\, 15221\, United States
END:VEVENT
BEGIN:VEVENT
DTSTART;TZID=America/New_York:20260909T163000
DTEND;TZID=America/New_York:20260909T180000
DTSTAMP:20260421T155831
CREATED:20240807T155347Z
LAST-MODIFIED:20240807T155347Z
UID:6725-1788971400-1788976800@www.annurislamiccenterpa.org
SUMMARY:M.A.L.I Arabic Class - Imam Walter Shaahid - Free
DESCRIPTION:M.A.L.I – Muslim American Logic Institute\nmuslimamericanlogic.ning.com\nInstructor: Imam Walter Shaahid\nLearn M.A.L.I system of teaching Arabic. Every Wednesday 4:30pm – 6pm.\nAddress: 1017 Center Street\, Pittsburgh\, PA\, 15221
URL:https://www.annurislamiccenterpa.org/event/m-a-l-i-arabic-class-2026-09-09/
LOCATION:An Nur Islamic Center\, 1017 Center Street\, Pittsburgh\, PA\, 15221\, United States
END:VEVENT
BEGIN:VEVENT
DTSTART;TZID=America/New_York:20260912T063000
DTEND;TZID=America/New_York:20260912T083000
DTSTAMP:20260421T155831
CREATED:20231007T141233Z
LAST-MODIFIED:20231007T141233Z
UID:6848-1789194600-1789201800@www.annurislamiccenterpa.org
SUMMARY:M.A.L.I Arabic Class with Imam Hammad Mahdi
DESCRIPTION:
URL:https://www.annurislamiccenterpa.org/event/m-a-l-i-arabic-class-with-imam-hammad-mahdi-2026-09-12/
LOCATION:An Nur Islamic Center\, 1017 Center Street\, Pittsburgh\, PA\, 15221\, United States
END:VEVENT
BEGIN:VEVENT
DTSTART;TZID=America/New_York:20260913T063000
DTEND;TZID=America/New_York:20260913T083000
DTSTAMP:20260421T155831
CREATED:20231007T141233Z
LAST-MODIFIED:20231007T141233Z
UID:6870-1789281000-1789288200@www.annurislamiccenterpa.org
SUMMARY:M.A.L.I Arabic Class with Imam Hammad Mahdi
DESCRIPTION:
URL:https://www.annurislamiccenterpa.org/event/m-a-l-i-arabic-class-with-imam-hammad-mahdi-2026-09-13/
LOCATION:An Nur Islamic Center\, 1017 Center Street\, Pittsburgh\, PA\, 15221\, United States
END:VEVENT
BEGIN:VEVENT
DTSTART;TZID=America/New_York:20260913T120000
DTEND;TZID=America/New_York:20260913T130000
DTSTAMP:20260421T155831
CREATED:20240903T182553Z
LAST-MODIFIED:20240903T182553Z
UID:6871-1789300800-1789304400@www.annurislamiccenterpa.org
SUMMARY:Majlis Board Meeting
DESCRIPTION:Monthly majlis board member meeting.  Virtual meeting every 2nd Sunday of the month.
URL:https://www.annurislamiccenterpa.org/event/majlis-board-meeting-2026-09-13/
LOCATION:PA
END:VEVENT
BEGIN:VEVENT
DTSTART;TZID=America/New_York:20260916T163000
DTEND;TZID=America/New_York:20260916T180000
DTSTAMP:20260421T155831
CREATED:20240807T155347Z
LAST-MODIFIED:20240807T155347Z
UID:7231-1789576200-1789581600@www.annurislamiccenterpa.org
SUMMARY:M.A.L.I Arabic Class - Imam Walter Shaahid - Free
DESCRIPTION:M.A.L.I – Muslim American Logic Institute\nmuslimamericanlogic.ning.com\nInstructor: Imam Walter Shaahid\nLearn M.A.L.I system of teaching Arabic. Every Wednesday 4:30pm – 6pm.\nAddress: 1017 Center Street\, Pittsburgh\, PA\, 15221
URL:https://www.annurislamiccenterpa.org/event/m-a-l-i-arabic-class-2026-09-16/
LOCATION:An Nur Islamic Center\, 1017 Center Street\, Pittsburgh\, PA\, 15221\, United States
END:VEVENT
BEGIN:VEVENT
DTSTART;TZID=America/New_York:20260919T063000
DTEND;TZID=America/New_York:20260919T083000
DTSTAMP:20260421T155831
CREATED:20231007T141233Z
LAST-MODIFIED:20231007T141233Z
UID:7352-1789799400-1789806600@www.annurislamiccenterpa.org
SUMMARY:M.A.L.I Arabic Class with Imam Hammad Mahdi
DESCRIPTION:
URL:https://www.annurislamiccenterpa.org/event/m-a-l-i-arabic-class-with-imam-hammad-mahdi-2026-09-19/
LOCATION:An Nur Islamic Center\, 1017 Center Street\, Pittsburgh\, PA\, 15221\, United States
END:VEVENT
BEGIN:VEVENT
DTSTART;TZID=America/New_York:20260920T013000
DTEND;TZID=America/New_York:20260920T150000
DTSTAMP:20260421T155831
CREATED:20240807T162049Z
LAST-MODIFIED:20240807T162049Z
UID:7356-1789867800-1789916400@www.annurislamiccenterpa.org
SUMMARY:Qur'anic Studies Class
DESCRIPTION:Qur’anic Studies Class – Every 3rd Sunday\nTime: After Dhuhr Prayer\nInstructor: Imam Hammad Mahdi\nAddress: 1027 Center Street\, Pittsburgh\, PA 15221
URL:https://www.annurislamiccenterpa.org/event/quranic-studies-class-2026-09-20/
LOCATION:An Nur Islamic Center\, 1017 Center Street\, Pittsburgh\, PA\, 15221\, United States
END:VEVENT
BEGIN:VEVENT
DTSTART;TZID=America/New_York:20260920T063000
DTEND;TZID=America/New_York:20260920T083000
DTSTAMP:20260421T155831
CREATED:20231007T141233Z
LAST-MODIFIED:20231007T141233Z
UID:7355-1789885800-1789893000@www.annurislamiccenterpa.org
SUMMARY:M.A.L.I Arabic Class with Imam Hammad Mahdi
DESCRIPTION:
URL:https://www.annurislamiccenterpa.org/event/m-a-l-i-arabic-class-with-imam-hammad-mahdi-2026-09-20/
LOCATION:An Nur Islamic Center\, 1017 Center Street\, Pittsburgh\, PA\, 15221\, United States
END:VEVENT
BEGIN:VEVENT
DTSTART;TZID=America/New_York:20260923T163000
DTEND;TZID=America/New_York:20260923T180000
DTSTAMP:20260421T155831
CREATED:20240807T155347Z
LAST-MODIFIED:20240807T155347Z
UID:7378-1790181000-1790186400@www.annurislamiccenterpa.org
SUMMARY:M.A.L.I Arabic Class - Imam Walter Shaahid - Free
DESCRIPTION:M.A.L.I – Muslim American Logic Institute\nmuslimamericanlogic.ning.com\nInstructor: Imam Walter Shaahid\nLearn M.A.L.I system of teaching Arabic. Every Wednesday 4:30pm – 6pm.\nAddress: 1017 Center Street\, Pittsburgh\, PA\, 15221
URL:https://www.annurislamiccenterpa.org/event/m-a-l-i-arabic-class-2026-09-23/
LOCATION:An Nur Islamic Center\, 1017 Center Street\, Pittsburgh\, PA\, 15221\, United States
END:VEVENT
BEGIN:VEVENT
DTSTART;TZID=America/New_York:20260926T063000
DTEND;TZID=America/New_York:20260926T083000
DTSTAMP:20260421T155831
CREATED:20231007T141233Z
LAST-MODIFIED:20231007T141233Z
UID:7384-1790404200-1790411400@www.annurislamiccenterpa.org
SUMMARY:M.A.L.I Arabic Class with Imam Hammad Mahdi
DESCRIPTION:
URL:https://www.annurislamiccenterpa.org/event/m-a-l-i-arabic-class-with-imam-hammad-mahdi-2026-09-26/
LOCATION:An Nur Islamic Center\, 1017 Center Street\, Pittsburgh\, PA\, 15221\, United States
END:VEVENT
BEGIN:VEVENT
DTSTART;TZID=America/New_York:20260927T063000
DTEND;TZID=America/New_York:20260927T083000
DTSTAMP:20260421T155831
CREATED:20231007T141233Z
LAST-MODIFIED:20231007T141233Z
UID:7385-1790490600-1790497800@www.annurislamiccenterpa.org
SUMMARY:M.A.L.I Arabic Class with Imam Hammad Mahdi
DESCRIPTION:
URL:https://www.annurislamiccenterpa.org/event/m-a-l-i-arabic-class-with-imam-hammad-mahdi-2026-09-27/
LOCATION:An Nur Islamic Center\, 1017 Center Street\, Pittsburgh\, PA\, 15221\, United States
END:VEVENT
BEGIN:VEVENT
DTSTART;TZID=America/New_York:20260927T130000
DTEND;TZID=America/New_York:20260927T140000
DTSTAMP:20260421T155831
CREATED:20240903T183430Z
LAST-MODIFIED:20240903T183430Z
UID:7386-1790514000-1790517600@www.annurislamiccenterpa.org
SUMMARY:Monthly Community Meeting
DESCRIPTION:Monthly Community Meeting\nLocation: An-Nur Islamic Center (1017 Center St.)\nTime: After dhuhr prayer
URL:https://www.annurislamiccenterpa.org/event/monthly-community-meeting-2026-09-27/
LOCATION:An Nur Islamic Center\, 1017 Center Street\, Pittsburgh\, PA\, 15221\, United States
END:VEVENT
BEGIN:VEVENT
DTSTART;TZID=America/New_York:20260930T163000
DTEND;TZID=America/New_York:20260930T180000
DTSTAMP:20260421T155831
CREATED:20240807T155347Z
LAST-MODIFIED:20240807T155347Z
UID:7462-1790785800-1790791200@www.annurislamiccenterpa.org
SUMMARY:M.A.L.I Arabic Class - Imam Walter Shaahid - Free
DESCRIPTION:M.A.L.I – Muslim American Logic Institute\nmuslimamericanlogic.ning.com\nInstructor: Imam Walter Shaahid\nLearn M.A.L.I system of teaching Arabic. Every Wednesday 4:30pm – 6pm.\nAddress: 1017 Center Street\, Pittsburgh\, PA\, 15221
URL:https://www.annurislamiccenterpa.org/event/m-a-l-i-arabic-class-2026-09-30/
LOCATION:An Nur Islamic Center\, 1017 Center Street\, Pittsburgh\, PA\, 15221\, United States
END:VEVENT
BEGIN:VEVENT
DTSTART;TZID=America/New_York:20261003T063000
DTEND;TZID=America/New_York:20261003T083000
DTSTAMP:20260421T155831
CREATED:20231007T141233Z
LAST-MODIFIED:20231007T141233Z
UID:7610-1791009000-1791016200@www.annurislamiccenterpa.org
SUMMARY:M.A.L.I Arabic Class with Imam Hammad Mahdi
DESCRIPTION:
URL:https://www.annurislamiccenterpa.org/event/m-a-l-i-arabic-class-with-imam-hammad-mahdi-2026-10-03/
LOCATION:An Nur Islamic Center\, 1017 Center Street\, Pittsburgh\, PA\, 15221\, United States
END:VEVENT
BEGIN:VEVENT
DTSTART;TZID=America/New_York:20261004T063000
DTEND;TZID=America/New_York:20261004T083000
DTSTAMP:20260421T155831
CREATED:20231007T141233Z
LAST-MODIFIED:20231007T141233Z
UID:7611-1791095400-1791102600@www.annurislamiccenterpa.org
SUMMARY:M.A.L.I Arabic Class with Imam Hammad Mahdi
DESCRIPTION:
URL:https://www.annurislamiccenterpa.org/event/m-a-l-i-arabic-class-with-imam-hammad-mahdi-2026-10-04/
LOCATION:An Nur Islamic Center\, 1017 Center Street\, Pittsburgh\, PA\, 15221\, United States
END:VEVENT
BEGIN:VEVENT
DTSTART;TZID=America/New_York:20261007T163000
DTEND;TZID=America/New_York:20261007T180000
DTSTAMP:20260421T155831
CREATED:20240807T155347Z
LAST-MODIFIED:20240807T155347Z
UID:7613-1791390600-1791396000@www.annurislamiccenterpa.org
SUMMARY:M.A.L.I Arabic Class - Imam Walter Shaahid - Free
DESCRIPTION:M.A.L.I – Muslim American Logic Institute\nmuslimamericanlogic.ning.com\nInstructor: Imam Walter Shaahid\nLearn M.A.L.I system of teaching Arabic. Every Wednesday 4:30pm – 6pm.\nAddress: 1017 Center Street\, Pittsburgh\, PA\, 15221
URL:https://www.annurislamiccenterpa.org/event/m-a-l-i-arabic-class-2026-10-07/
LOCATION:An Nur Islamic Center\, 1017 Center Street\, Pittsburgh\, PA\, 15221\, United States
END:VEVENT
BEGIN:VEVENT
DTSTART;TZID=America/New_York:20261010T063000
DTEND;TZID=America/New_York:20261010T083000
DTSTAMP:20260421T155831
CREATED:20231007T141233Z
LAST-MODIFIED:20231007T141233Z
UID:7718-1791613800-1791621000@www.annurislamiccenterpa.org
SUMMARY:M.A.L.I Arabic Class with Imam Hammad Mahdi
DESCRIPTION:
URL:https://www.annurislamiccenterpa.org/event/m-a-l-i-arabic-class-with-imam-hammad-mahdi-2026-10-10/
LOCATION:An Nur Islamic Center\, 1017 Center Street\, Pittsburgh\, PA\, 15221\, United States
END:VEVENT
BEGIN:VEVENT
DTSTART;TZID=America/New_York:20261011T063000
DTEND;TZID=America/New_York:20261011T083000
DTSTAMP:20260421T155831
CREATED:20231007T141233Z
LAST-MODIFIED:20231007T141233Z
UID:7721-1791700200-1791707400@www.annurislamiccenterpa.org
SUMMARY:M.A.L.I Arabic Class with Imam Hammad Mahdi
DESCRIPTION:
URL:https://www.annurislamiccenterpa.org/event/m-a-l-i-arabic-class-with-imam-hammad-mahdi-2026-10-11/
LOCATION:An Nur Islamic Center\, 1017 Center Street\, Pittsburgh\, PA\, 15221\, United States
END:VEVENT
BEGIN:VEVENT
DTSTART;TZID=America/New_York:20261011T120000
DTEND;TZID=America/New_York:20261011T130000
DTSTAMP:20260421T155831
CREATED:20240903T182553Z
LAST-MODIFIED:20240903T182553Z
UID:7722-1791720000-1791723600@www.annurislamiccenterpa.org
SUMMARY:Majlis Board Meeting
DESCRIPTION:Monthly majlis board member meeting.  Virtual meeting every 2nd Sunday of the month.
URL:https://www.annurislamiccenterpa.org/event/majlis-board-meeting-2026-10-11/
LOCATION:PA
END:VEVENT
BEGIN:VEVENT
DTSTART;TZID=America/New_York:20261014T163000
DTEND;TZID=America/New_York:20261014T180000
DTSTAMP:20260421T155831
CREATED:20240807T155347Z
LAST-MODIFIED:20240807T155347Z
UID:7912-1791995400-1792000800@www.annurislamiccenterpa.org
SUMMARY:M.A.L.I Arabic Class - Imam Walter Shaahid - Free
DESCRIPTION:M.A.L.I – Muslim American Logic Institute\nmuslimamericanlogic.ning.com\nInstructor: Imam Walter Shaahid\nLearn M.A.L.I system of teaching Arabic. Every Wednesday 4:30pm – 6pm.\nAddress: 1017 Center Street\, Pittsburgh\, PA\, 15221
URL:https://www.annurislamiccenterpa.org/event/m-a-l-i-arabic-class-2026-10-14/
LOCATION:An Nur Islamic Center\, 1017 Center Street\, Pittsburgh\, PA\, 15221\, United States
END:VEVENT
BEGIN:VEVENT
DTSTART;TZID=America/New_York:20261017T063000
DTEND;TZID=America/New_York:20261017T083000
DTSTAMP:20260421T155831
CREATED:20231007T141233Z
LAST-MODIFIED:20231007T141233Z
UID:7935-1792218600-1792225800@www.annurislamiccenterpa.org
SUMMARY:M.A.L.I Arabic Class with Imam Hammad Mahdi
DESCRIPTION:
URL:https://www.annurislamiccenterpa.org/event/m-a-l-i-arabic-class-with-imam-hammad-mahdi-2026-10-17/
LOCATION:An Nur Islamic Center\, 1017 Center Street\, Pittsburgh\, PA\, 15221\, United States
END:VEVENT
BEGIN:VEVENT
DTSTART;TZID=America/New_York:20261018T013000
DTEND;TZID=America/New_York:20261018T150000
DTSTAMP:20260421T155831
CREATED:20240807T162049Z
LAST-MODIFIED:20240807T162049Z
UID:7937-1792287000-1792335600@www.annurislamiccenterpa.org
SUMMARY:Qur'anic Studies Class
DESCRIPTION:Qur’anic Studies Class – Every 3rd Sunday\nTime: After Dhuhr Prayer\nInstructor: Imam Hammad Mahdi\nAddress: 1027 Center Street\, Pittsburgh\, PA 15221
URL:https://www.annurislamiccenterpa.org/event/quranic-studies-class-2026-10-18/
LOCATION:An Nur Islamic Center\, 1017 Center Street\, Pittsburgh\, PA\, 15221\, United States
END:VEVENT
BEGIN:VEVENT
DTSTART;TZID=America/New_York:20261018T063000
DTEND;TZID=America/New_York:20261018T083000
DTSTAMP:20260421T155831
CREATED:20231007T141233Z
LAST-MODIFIED:20231007T141233Z
UID:7936-1792305000-1792312200@www.annurislamiccenterpa.org
SUMMARY:M.A.L.I Arabic Class with Imam Hammad Mahdi
DESCRIPTION:
URL:https://www.annurislamiccenterpa.org/event/m-a-l-i-arabic-class-with-imam-hammad-mahdi-2026-10-18/
LOCATION:An Nur Islamic Center\, 1017 Center Street\, Pittsburgh\, PA\, 15221\, United States
END:VEVENT
BEGIN:VEVENT
DTSTART;TZID=America/New_York:20261021T163000
DTEND;TZID=America/New_York:20261021T180000
DTSTAMP:20260421T155831
CREATED:20240807T155347Z
LAST-MODIFIED:20240807T155347Z
UID:7963-1792600200-1792605600@www.annurislamiccenterpa.org
SUMMARY:M.A.L.I Arabic Class - Imam Walter Shaahid - Free
DESCRIPTION:M.A.L.I – Muslim American Logic Institute\nmuslimamericanlogic.ning.com\nInstructor: Imam Walter Shaahid\nLearn M.A.L.I system of teaching Arabic. Every Wednesday 4:30pm – 6pm.\nAddress: 1017 Center Street\, Pittsburgh\, PA\, 15221
URL:https://www.annurislamiccenterpa.org/event/m-a-l-i-arabic-class-2026-10-21/
LOCATION:An Nur Islamic Center\, 1017 Center Street\, Pittsburgh\, PA\, 15221\, United States
END:VEVENT
BEGIN:VEVENT
DTSTART;TZID=America/New_York:20261024T063000
DTEND;TZID=America/New_York:20261024T083000
DTSTAMP:20260421T155831
CREATED:20231007T141233Z
LAST-MODIFIED:20231007T141233Z
UID:7966-1792823400-1792830600@www.annurislamiccenterpa.org
SUMMARY:M.A.L.I Arabic Class with Imam Hammad Mahdi
DESCRIPTION:
URL:https://www.annurislamiccenterpa.org/event/m-a-l-i-arabic-class-with-imam-hammad-mahdi-2026-10-24/
LOCATION:An Nur Islamic Center\, 1017 Center Street\, Pittsburgh\, PA\, 15221\, United States
END:VEVENT
BEGIN:VEVENT
DTSTART;TZID=America/New_York:20261025T063000
DTEND;TZID=America/New_York:20261025T083000
DTSTAMP:20260421T155831
CREATED:20231007T141233Z
LAST-MODIFIED:20231007T141233Z
UID:7967-1792909800-1792917000@www.annurislamiccenterpa.org
SUMMARY:M.A.L.I Arabic Class with Imam Hammad Mahdi
DESCRIPTION:
URL:https://www.annurislamiccenterpa.org/event/m-a-l-i-arabic-class-with-imam-hammad-mahdi-2026-10-25/
LOCATION:An Nur Islamic Center\, 1017 Center Street\, Pittsburgh\, PA\, 15221\, United States
END:VEVENT
BEGIN:VEVENT
DTSTART;TZID=America/New_York:20261025T130000
DTEND;TZID=America/New_York:20261025T140000
DTSTAMP:20260421T155831
CREATED:20240903T183430Z
LAST-MODIFIED:20240903T183430Z
UID:7968-1792933200-1792936800@www.annurislamiccenterpa.org
SUMMARY:Monthly Community Meeting
DESCRIPTION:Monthly Community Meeting\nLocation: An-Nur Islamic Center (1017 Center St.)\nTime: After dhuhr prayer
URL:https://www.annurislamiccenterpa.org/event/monthly-community-meeting-2026-10-25/
LOCATION:An Nur Islamic Center\, 1017 Center Street\, Pittsburgh\, PA\, 15221\, United States
END:VEVENT
END:VCALENDAR