BEGIN:VCALENDAR
VERSION:2.0
PRODID:-//An-Nur Islamic Center - ECPv6.15.16//NONSGML v1.0//EN
CALSCALE:GREGORIAN
METHOD:PUBLISH
X-WR-CALNAME:An-Nur Islamic Center
X-ORIGINAL-URL:https://www.annurislamiccenterpa.org
X-WR-CALDESC:Events for An-Nur Islamic Center
REFRESH-INTERVAL;VALUE=DURATION:PT1H
X-Robots-Tag:noindex
X-PUBLISHED-TTL:PT1H
BEGIN:VTIMEZONE
TZID:America/New_York
BEGIN:DAYLIGHT
TZOFFSETFROM:-0500
TZOFFSETTO:-0400
TZNAME:EDT
DTSTART:20250309T070000
END:DAYLIGHT
BEGIN:STANDARD
TZOFFSETFROM:-0400
TZOFFSETTO:-0500
TZNAME:EST
DTSTART:20251102T060000
END:STANDARD
BEGIN:DAYLIGHT
TZOFFSETFROM:-0500
TZOFFSETTO:-0400
TZNAME:EDT
DTSTART:20260308T070000
END:DAYLIGHT
BEGIN:STANDARD
TZOFFSETFROM:-0400
TZOFFSETTO:-0500
TZNAME:EST
DTSTART:20261101T060000
END:STANDARD
BEGIN:DAYLIGHT
TZOFFSETFROM:-0500
TZOFFSETTO:-0400
TZNAME:EDT
DTSTART:20270314T070000
END:DAYLIGHT
BEGIN:STANDARD
TZOFFSETFROM:-0400
TZOFFSETTO:-0500
TZNAME:EST
DTSTART:20271107T060000
END:STANDARD
END:VTIMEZONE
BEGIN:VEVENT
DTSTART;TZID=America/New_York:20260701T163000
DTEND;TZID=America/New_York:20260701T180000
DTSTAMP:20260421T162147
CREATED:20240807T155347Z
LAST-MODIFIED:20240807T155347Z
UID:5742-1782923400-1782928800@www.annurislamiccenterpa.org
SUMMARY:M.A.L.I Arabic Class - Imam Walter Shaahid - Free
DESCRIPTION:M.A.L.I – Muslim American Logic Institute\nmuslimamericanlogic.ning.com\nInstructor: Imam Walter Shaahid\nLearn M.A.L.I system of teaching Arabic. Every Wednesday 4:30pm – 6pm.\nAddress: 1017 Center Street\, Pittsburgh\, PA\, 15221
URL:https://www.annurislamiccenterpa.org/event/m-a-l-i-arabic-class-2026-07-01/
LOCATION:An Nur Islamic Center\, 1017 Center Street\, Pittsburgh\, PA\, 15221\, United States
END:VEVENT
BEGIN:VEVENT
DTSTART;TZID=America/New_York:20260704T063000
DTEND;TZID=America/New_York:20260704T083000
DTSTAMP:20260421T162147
CREATED:20231007T141233Z
LAST-MODIFIED:20231007T141233Z
UID:5026-1783146600-1783153800@www.annurislamiccenterpa.org
SUMMARY:M.A.L.I Arabic Class with Imam Hammad Mahdi
DESCRIPTION:
URL:https://www.annurislamiccenterpa.org/event/m-a-l-i-arabic-class-with-imam-hammad-mahdi-2026-07-04/
LOCATION:An Nur Islamic Center\, 1017 Center Street\, Pittsburgh\, PA\, 15221\, United States
END:VEVENT
BEGIN:VEVENT
DTSTART;TZID=America/New_York:20260705T063000
DTEND;TZID=America/New_York:20260705T083000
DTSTAMP:20260421T162147
CREATED:20231007T141233Z
LAST-MODIFIED:20231007T141233Z
UID:5027-1783233000-1783240200@www.annurislamiccenterpa.org
SUMMARY:M.A.L.I Arabic Class with Imam Hammad Mahdi
DESCRIPTION:
URL:https://www.annurislamiccenterpa.org/event/m-a-l-i-arabic-class-with-imam-hammad-mahdi-2026-07-05/
LOCATION:An Nur Islamic Center\, 1017 Center Street\, Pittsburgh\, PA\, 15221\, United States
END:VEVENT
BEGIN:VEVENT
DTSTART;TZID=America/New_York:20260708T163000
DTEND;TZID=America/New_York:20260708T180000
DTSTAMP:20260421T162147
CREATED:20240807T155347Z
LAST-MODIFIED:20240807T155347Z
UID:5743-1783528200-1783533600@www.annurislamiccenterpa.org
SUMMARY:M.A.L.I Arabic Class - Imam Walter Shaahid - Free
DESCRIPTION:M.A.L.I – Muslim American Logic Institute\nmuslimamericanlogic.ning.com\nInstructor: Imam Walter Shaahid\nLearn M.A.L.I system of teaching Arabic. Every Wednesday 4:30pm – 6pm.\nAddress: 1017 Center Street\, Pittsburgh\, PA\, 15221
URL:https://www.annurislamiccenterpa.org/event/m-a-l-i-arabic-class-2026-07-08/
LOCATION:An Nur Islamic Center\, 1017 Center Street\, Pittsburgh\, PA\, 15221\, United States
END:VEVENT
BEGIN:VEVENT
DTSTART;TZID=America/New_York:20260711T063000
DTEND;TZID=America/New_York:20260711T083000
DTSTAMP:20260421T162147
CREATED:20231007T141233Z
LAST-MODIFIED:20231007T141233Z
UID:5035-1783751400-1783758600@www.annurislamiccenterpa.org
SUMMARY:M.A.L.I Arabic Class with Imam Hammad Mahdi
DESCRIPTION:
URL:https://www.annurislamiccenterpa.org/event/m-a-l-i-arabic-class-with-imam-hammad-mahdi-2026-07-11/
LOCATION:An Nur Islamic Center\, 1017 Center Street\, Pittsburgh\, PA\, 15221\, United States
END:VEVENT
BEGIN:VEVENT
DTSTART;TZID=America/New_York:20260712T063000
DTEND;TZID=America/New_York:20260712T083000
DTSTAMP:20260421T162147
CREATED:20231007T141233Z
LAST-MODIFIED:20231007T141233Z
UID:5043-1783837800-1783845000@www.annurislamiccenterpa.org
SUMMARY:M.A.L.I Arabic Class with Imam Hammad Mahdi
DESCRIPTION:
URL:https://www.annurislamiccenterpa.org/event/m-a-l-i-arabic-class-with-imam-hammad-mahdi-2026-07-12/
LOCATION:An Nur Islamic Center\, 1017 Center Street\, Pittsburgh\, PA\, 15221\, United States
END:VEVENT
BEGIN:VEVENT
DTSTART;TZID=America/New_York:20260712T120000
DTEND;TZID=America/New_York:20260712T130000
DTSTAMP:20260421T162147
CREATED:20240903T182553Z
LAST-MODIFIED:20240908T154509Z
UID:6427-1783857600-1783861200@www.annurislamiccenterpa.org
SUMMARY:Majlis Board Meeting
DESCRIPTION:Monthly majlis board member meeting.  Virtual meeting every 2nd Sunday of the month.
URL:https://www.annurislamiccenterpa.org/event/majlis-board-meeting-2026-07-12/
LOCATION:PA
END:VEVENT
BEGIN:VEVENT
DTSTART;TZID=America/New_York:20260715T163000
DTEND;TZID=America/New_York:20260715T180000
DTSTAMP:20260421T162147
CREATED:20240807T155347Z
LAST-MODIFIED:20240807T155347Z
UID:5744-1784133000-1784138400@www.annurislamiccenterpa.org
SUMMARY:M.A.L.I Arabic Class - Imam Walter Shaahid - Free
DESCRIPTION:M.A.L.I – Muslim American Logic Institute\nmuslimamericanlogic.ning.com\nInstructor: Imam Walter Shaahid\nLearn M.A.L.I system of teaching Arabic. Every Wednesday 4:30pm – 6pm.\nAddress: 1017 Center Street\, Pittsburgh\, PA\, 15221
URL:https://www.annurislamiccenterpa.org/event/m-a-l-i-arabic-class-2026-07-15/
LOCATION:An Nur Islamic Center\, 1017 Center Street\, Pittsburgh\, PA\, 15221\, United States
END:VEVENT
BEGIN:VEVENT
DTSTART;TZID=America/New_York:20260718T063000
DTEND;TZID=America/New_York:20260718T083000
DTSTAMP:20260421T162147
CREATED:20231007T141233Z
LAST-MODIFIED:20231007T141233Z
UID:5070-1784356200-1784363400@www.annurislamiccenterpa.org
SUMMARY:M.A.L.I Arabic Class with Imam Hammad Mahdi
DESCRIPTION:
URL:https://www.annurislamiccenterpa.org/event/m-a-l-i-arabic-class-with-imam-hammad-mahdi-2026-07-18/
LOCATION:An Nur Islamic Center\, 1017 Center Street\, Pittsburgh\, PA\, 15221\, United States
END:VEVENT
BEGIN:VEVENT
DTSTART;TZID=America/New_York:20260719T013000
DTEND;TZID=America/New_York:20260719T150000
DTSTAMP:20260421T162147
CREATED:20240807T162049Z
LAST-MODIFIED:20240807T165319Z
UID:5538-1784424600-1784473200@www.annurislamiccenterpa.org
SUMMARY:Qur'anic Studies Class
DESCRIPTION:Qur’anic Studies Class – Every 3rd Sunday\nTime: After Dhuhr Prayer\nInstructor: Imam Hammad Mahdi\nAddress: 1027 Center Street\, Pittsburgh\, PA 15221
URL:https://www.annurislamiccenterpa.org/event/quranic-studies-class-2026-07-19/
LOCATION:An Nur Islamic Center\, 1017 Center Street\, Pittsburgh\, PA\, 15221\, United States
END:VEVENT
BEGIN:VEVENT
DTSTART;TZID=America/New_York:20260719T063000
DTEND;TZID=America/New_York:20260719T083000
DTSTAMP:20260421T162147
CREATED:20231007T141233Z
LAST-MODIFIED:20231007T141233Z
UID:5071-1784442600-1784449800@www.annurislamiccenterpa.org
SUMMARY:M.A.L.I Arabic Class with Imam Hammad Mahdi
DESCRIPTION:
URL:https://www.annurislamiccenterpa.org/event/m-a-l-i-arabic-class-with-imam-hammad-mahdi-2026-07-19/
LOCATION:An Nur Islamic Center\, 1017 Center Street\, Pittsburgh\, PA\, 15221\, United States
END:VEVENT
BEGIN:VEVENT
DTSTART;TZID=America/New_York:20260722T163000
DTEND;TZID=America/New_York:20260722T180000
DTSTAMP:20260421T162147
CREATED:20240807T155347Z
LAST-MODIFIED:20240807T155347Z
UID:5745-1784737800-1784743200@www.annurislamiccenterpa.org
SUMMARY:M.A.L.I Arabic Class - Imam Walter Shaahid - Free
DESCRIPTION:M.A.L.I – Muslim American Logic Institute\nmuslimamericanlogic.ning.com\nInstructor: Imam Walter Shaahid\nLearn M.A.L.I system of teaching Arabic. Every Wednesday 4:30pm – 6pm.\nAddress: 1017 Center Street\, Pittsburgh\, PA\, 15221
URL:https://www.annurislamiccenterpa.org/event/m-a-l-i-arabic-class-2026-07-22/
LOCATION:An Nur Islamic Center\, 1017 Center Street\, Pittsburgh\, PA\, 15221\, United States
END:VEVENT
BEGIN:VEVENT
DTSTART;TZID=America/New_York:20260725T063000
DTEND;TZID=America/New_York:20260725T083000
DTSTAMP:20260421T162147
CREATED:20231007T141233Z
LAST-MODIFIED:20231007T141233Z
UID:5110-1784961000-1784968200@www.annurislamiccenterpa.org
SUMMARY:M.A.L.I Arabic Class with Imam Hammad Mahdi
DESCRIPTION:
URL:https://www.annurislamiccenterpa.org/event/m-a-l-i-arabic-class-with-imam-hammad-mahdi-2026-07-25/
LOCATION:An Nur Islamic Center\, 1017 Center Street\, Pittsburgh\, PA\, 15221\, United States
END:VEVENT
BEGIN:VEVENT
DTSTART;TZID=America/New_York:20260726T063000
DTEND;TZID=America/New_York:20260726T083000
DTSTAMP:20260421T162147
CREATED:20231007T141233Z
LAST-MODIFIED:20231007T141233Z
UID:5116-1785047400-1785054600@www.annurislamiccenterpa.org
SUMMARY:M.A.L.I Arabic Class with Imam Hammad Mahdi
DESCRIPTION:
URL:https://www.annurislamiccenterpa.org/event/m-a-l-i-arabic-class-with-imam-hammad-mahdi-2026-07-26/
LOCATION:An Nur Islamic Center\, 1017 Center Street\, Pittsburgh\, PA\, 15221\, United States
END:VEVENT
BEGIN:VEVENT
DTSTART;TZID=America/New_York:20260726T130000
DTEND;TZID=America/New_York:20260726T140000
DTSTAMP:20260421T162147
CREATED:20240903T183430Z
LAST-MODIFIED:20240903T183430Z
UID:6470-1785070800-1785074400@www.annurislamiccenterpa.org
SUMMARY:Monthly Community Meeting
DESCRIPTION:Monthly Community Meeting\nLocation: An-Nur Islamic Center (1017 Center St.)\nTime: After dhuhr prayer
URL:https://www.annurislamiccenterpa.org/event/monthly-community-meeting-2026-07-26/
LOCATION:An Nur Islamic Center\, 1017 Center Street\, Pittsburgh\, PA\, 15221\, United States
END:VEVENT
BEGIN:VEVENT
DTSTART;TZID=America/New_York:20260729T163000
DTEND;TZID=America/New_York:20260729T180000
DTSTAMP:20260421T162147
CREATED:20240807T155347Z
LAST-MODIFIED:20240807T155347Z
UID:5746-1785342600-1785348000@www.annurislamiccenterpa.org
SUMMARY:M.A.L.I Arabic Class - Imam Walter Shaahid - Free
DESCRIPTION:M.A.L.I – Muslim American Logic Institute\nmuslimamericanlogic.ning.com\nInstructor: Imam Walter Shaahid\nLearn M.A.L.I system of teaching Arabic. Every Wednesday 4:30pm – 6pm.\nAddress: 1017 Center Street\, Pittsburgh\, PA\, 15221
URL:https://www.annurislamiccenterpa.org/event/m-a-l-i-arabic-class-2026-07-29/
LOCATION:An Nur Islamic Center\, 1017 Center Street\, Pittsburgh\, PA\, 15221\, United States
END:VEVENT
BEGIN:VEVENT
DTSTART;TZID=America/New_York:20260801T063000
DTEND;TZID=America/New_York:20260801T083000
DTSTAMP:20260421T162147
CREATED:20231007T141233Z
LAST-MODIFIED:20231007T141233Z
UID:5120-1785565800-1785573000@www.annurislamiccenterpa.org
SUMMARY:M.A.L.I Arabic Class with Imam Hammad Mahdi
DESCRIPTION:
URL:https://www.annurislamiccenterpa.org/event/m-a-l-i-arabic-class-with-imam-hammad-mahdi-2026-08-01/
LOCATION:An Nur Islamic Center\, 1017 Center Street\, Pittsburgh\, PA\, 15221\, United States
END:VEVENT
BEGIN:VEVENT
DTSTART;TZID=America/New_York:20260802T063000
DTEND;TZID=America/New_York:20260802T083000
DTSTAMP:20260421T162147
CREATED:20231007T141233Z
LAST-MODIFIED:20231007T141233Z
UID:5121-1785652200-1785659400@www.annurislamiccenterpa.org
SUMMARY:M.A.L.I Arabic Class with Imam Hammad Mahdi
DESCRIPTION:
URL:https://www.annurislamiccenterpa.org/event/m-a-l-i-arabic-class-with-imam-hammad-mahdi-2026-08-02/
LOCATION:An Nur Islamic Center\, 1017 Center Street\, Pittsburgh\, PA\, 15221\, United States
END:VEVENT
BEGIN:VEVENT
DTSTART;TZID=America/New_York:20260805T163000
DTEND;TZID=America/New_York:20260805T180000
DTSTAMP:20260421T162147
CREATED:20240807T155347Z
LAST-MODIFIED:20240807T155347Z
UID:5747-1785947400-1785952800@www.annurislamiccenterpa.org
SUMMARY:M.A.L.I Arabic Class - Imam Walter Shaahid - Free
DESCRIPTION:M.A.L.I – Muslim American Logic Institute\nmuslimamericanlogic.ning.com\nInstructor: Imam Walter Shaahid\nLearn M.A.L.I system of teaching Arabic. Every Wednesday 4:30pm – 6pm.\nAddress: 1017 Center Street\, Pittsburgh\, PA\, 15221
URL:https://www.annurislamiccenterpa.org/event/m-a-l-i-arabic-class-2026-08-05/
LOCATION:An Nur Islamic Center\, 1017 Center Street\, Pittsburgh\, PA\, 15221\, United States
END:VEVENT
BEGIN:VEVENT
DTSTART;TZID=America/New_York:20260808T063000
DTEND;TZID=America/New_York:20260808T083000
DTSTAMP:20260421T162147
CREATED:20231007T141233Z
LAST-MODIFIED:20231007T141233Z
UID:5579-1786170600-1786177800@www.annurislamiccenterpa.org
SUMMARY:M.A.L.I Arabic Class with Imam Hammad Mahdi
DESCRIPTION:
URL:https://www.annurislamiccenterpa.org/event/m-a-l-i-arabic-class-with-imam-hammad-mahdi-2026-08-08/
LOCATION:An Nur Islamic Center\, 1017 Center Street\, Pittsburgh\, PA\, 15221\, United States
END:VEVENT
BEGIN:VEVENT
DTSTART;TZID=America/New_York:20260809T063000
DTEND;TZID=America/New_York:20260809T083000
DTSTAMP:20260421T162147
CREATED:20231007T141233Z
LAST-MODIFIED:20231007T141233Z
UID:5637-1786257000-1786264200@www.annurislamiccenterpa.org
SUMMARY:M.A.L.I Arabic Class with Imam Hammad Mahdi
DESCRIPTION:
URL:https://www.annurislamiccenterpa.org/event/m-a-l-i-arabic-class-with-imam-hammad-mahdi-2026-08-09/
LOCATION:An Nur Islamic Center\, 1017 Center Street\, Pittsburgh\, PA\, 15221\, United States
END:VEVENT
BEGIN:VEVENT
DTSTART;TZID=America/New_York:20260809T120000
DTEND;TZID=America/New_York:20260809T130000
DTSTAMP:20260421T162147
CREATED:20240903T182553Z
LAST-MODIFIED:20240908T154509Z
UID:6428-1786276800-1786280400@www.annurislamiccenterpa.org
SUMMARY:Majlis Board Meeting
DESCRIPTION:Monthly majlis board member meeting.  Virtual meeting every 2nd Sunday of the month.
URL:https://www.annurislamiccenterpa.org/event/majlis-board-meeting-2026-08-09/
LOCATION:PA
END:VEVENT
BEGIN:VEVENT
DTSTART;TZID=America/New_York:20260812T163000
DTEND;TZID=America/New_York:20260812T180000
DTSTAMP:20260421T162147
CREATED:20240807T155347Z
LAST-MODIFIED:20240807T155347Z
UID:5748-1786552200-1786557600@www.annurislamiccenterpa.org
SUMMARY:M.A.L.I Arabic Class - Imam Walter Shaahid - Free
DESCRIPTION:M.A.L.I – Muslim American Logic Institute\nmuslimamericanlogic.ning.com\nInstructor: Imam Walter Shaahid\nLearn M.A.L.I system of teaching Arabic. Every Wednesday 4:30pm – 6pm.\nAddress: 1017 Center Street\, Pittsburgh\, PA\, 15221
URL:https://www.annurislamiccenterpa.org/event/m-a-l-i-arabic-class-2026-08-12/
LOCATION:An Nur Islamic Center\, 1017 Center Street\, Pittsburgh\, PA\, 15221\, United States
END:VEVENT
BEGIN:VEVENT
DTSTART;TZID=America/New_York:20260815T063000
DTEND;TZID=America/New_York:20260815T083000
DTSTAMP:20260421T162147
CREATED:20231007T141233Z
LAST-MODIFIED:20231007T141233Z
UID:6060-1786775400-1786782600@www.annurislamiccenterpa.org
SUMMARY:M.A.L.I Arabic Class with Imam Hammad Mahdi
DESCRIPTION:
URL:https://www.annurislamiccenterpa.org/event/m-a-l-i-arabic-class-with-imam-hammad-mahdi-2026-08-15/
LOCATION:An Nur Islamic Center\, 1017 Center Street\, Pittsburgh\, PA\, 15221\, United States
END:VEVENT
BEGIN:VEVENT
DTSTART;TZID=America/New_York:20260816T013000
DTEND;TZID=America/New_York:20260816T150000
DTSTAMP:20260421T162147
CREATED:20240807T162049Z
LAST-MODIFIED:20240807T162049Z
UID:6121-1786843800-1786892400@www.annurislamiccenterpa.org
SUMMARY:Qur'anic Studies Class
DESCRIPTION:Qur’anic Studies Class – Every 3rd Sunday\nTime: After Dhuhr Prayer\nInstructor: Imam Hammad Mahdi\nAddress: 1027 Center Street\, Pittsburgh\, PA 15221
URL:https://www.annurislamiccenterpa.org/event/quranic-studies-class-2026-08-16/
LOCATION:An Nur Islamic Center\, 1017 Center Street\, Pittsburgh\, PA\, 15221\, United States
END:VEVENT
BEGIN:VEVENT
DTSTART;TZID=America/New_York:20260816T063000
DTEND;TZID=America/New_York:20260816T083000
DTSTAMP:20260421T162147
CREATED:20231007T141233Z
LAST-MODIFIED:20231007T141233Z
UID:6120-1786861800-1786869000@www.annurislamiccenterpa.org
SUMMARY:M.A.L.I Arabic Class with Imam Hammad Mahdi
DESCRIPTION:
URL:https://www.annurislamiccenterpa.org/event/m-a-l-i-arabic-class-with-imam-hammad-mahdi-2026-08-16/
LOCATION:An Nur Islamic Center\, 1017 Center Street\, Pittsburgh\, PA\, 15221\, United States
END:VEVENT
BEGIN:VEVENT
DTSTART;TZID=America/New_York:20260819T163000
DTEND;TZID=America/New_York:20260819T180000
DTSTAMP:20260421T162147
CREATED:20240807T155347Z
LAST-MODIFIED:20240807T155347Z
UID:6123-1787157000-1787162400@www.annurislamiccenterpa.org
SUMMARY:M.A.L.I Arabic Class - Imam Walter Shaahid - Free
DESCRIPTION:M.A.L.I – Muslim American Logic Institute\nmuslimamericanlogic.ning.com\nInstructor: Imam Walter Shaahid\nLearn M.A.L.I system of teaching Arabic. Every Wednesday 4:30pm – 6pm.\nAddress: 1017 Center Street\, Pittsburgh\, PA\, 15221
URL:https://www.annurislamiccenterpa.org/event/m-a-l-i-arabic-class-2026-08-19/
LOCATION:An Nur Islamic Center\, 1017 Center Street\, Pittsburgh\, PA\, 15221\, United States
END:VEVENT
BEGIN:VEVENT
DTSTART;TZID=America/New_York:20260822T063000
DTEND;TZID=America/New_York:20260822T083000
DTSTAMP:20260421T162147
CREATED:20231007T141233Z
LAST-MODIFIED:20231007T141233Z
UID:6275-1787380200-1787387400@www.annurislamiccenterpa.org
SUMMARY:M.A.L.I Arabic Class with Imam Hammad Mahdi
DESCRIPTION:
URL:https://www.annurislamiccenterpa.org/event/m-a-l-i-arabic-class-with-imam-hammad-mahdi-2026-08-22/
LOCATION:An Nur Islamic Center\, 1017 Center Street\, Pittsburgh\, PA\, 15221\, United States
END:VEVENT
BEGIN:VEVENT
DTSTART;TZID=America/New_York:20260823T063000
DTEND;TZID=America/New_York:20260823T083000
DTSTAMP:20260421T162147
CREATED:20231007T141233Z
LAST-MODIFIED:20231007T141233Z
UID:6288-1787466600-1787473800@www.annurislamiccenterpa.org
SUMMARY:M.A.L.I Arabic Class with Imam Hammad Mahdi
DESCRIPTION:
URL:https://www.annurislamiccenterpa.org/event/m-a-l-i-arabic-class-with-imam-hammad-mahdi-2026-08-23/
LOCATION:An Nur Islamic Center\, 1017 Center Street\, Pittsburgh\, PA\, 15221\, United States
END:VEVENT
BEGIN:VEVENT
DTSTART;TZID=America/New_York:20260823T130000
DTEND;TZID=America/New_York:20260823T140000
DTSTAMP:20260421T162147
CREATED:20240903T183430Z
LAST-MODIFIED:20240903T183430Z
UID:6471-1787490000-1787493600@www.annurislamiccenterpa.org
SUMMARY:Monthly Community Meeting
DESCRIPTION:Monthly Community Meeting\nLocation: An-Nur Islamic Center (1017 Center St.)\nTime: After dhuhr prayer
URL:https://www.annurislamiccenterpa.org/event/monthly-community-meeting-2026-08-23/
LOCATION:An Nur Islamic Center\, 1017 Center Street\, Pittsburgh\, PA\, 15221\, United States
END:VEVENT
END:VCALENDAR